BEGIN:VCALENDAR
VERSION:2.0
PRODID:Magic the Gathering Professional Events
CALSCALE:GREGORIAN
METHOD:PUBLISH
BEGIN:VEVENT
DTSTAMP:20260419T130239Z
UID:82e260ef-bf4e-4776-a180-fb02d9a2b095
DTSTART:20140318T000000
CLASS:PUBLIC
SUMMARY:Casual Freeplay
END:VEVENT
END:VCALENDAR
