BEGIN:VCALENDAR
VERSION:2.0
PRODID:Magic the Gathering Professional Events
CALSCALE:GREGORIAN
METHOD:PUBLISH
BEGIN:VEVENT
DTSTAMP:20260425T202947Z
UID:e1508ed5-871e-4c3b-ae40-7497653bf00c
DTSTART:20170508T000000
CLASS:PUBLIC
SUMMARY:[AKH] League Pool Distribution
END:VEVENT
BEGIN:VEVENT
DTSTAMP:20260425T202947Z
UID:4f9bf6cc-1bbc-43b6-b194-57130d2cf0b2
DTSTART:20170428T000000
CLASS:PUBLIC
SUMMARY:[AKH] League Preregistration Deadline
END:VEVENT
BEGIN:VEVENT
DTSTAMP:20260425T202947Z
UID:64e555a0-7141-4764-8db5-24507bd7195a
DTSTART:20170602T000000
CLASS:PUBLIC
SUMMARY:[AKH] League Phase One Deadline
END:VEVENT
BEGIN:VEVENT
DTSTAMP:20260425T202947Z
UID:30a3b7df-7712-49e8-bfd8-aeba14987ec2
DTSTART:20170605T000000
CLASS:PUBLIC
SUMMARY:[AKH] League Draft One
END:VEVENT
BEGIN:VEVENT
DTSTAMP:20260425T202947Z
UID:f0168ae0-581f-4526-b115-a8a963f58c40
DTSTART:20170703T000000
CLASS:PUBLIC
SUMMARY:[AKH] League Draft Two
END:VEVENT
BEGIN:VEVENT
DTSTAMP:20260425T202947Z
UID:09ce9ba8-8202-498b-b0d9-e05ef082df0b
DTSTART:20170629T000000
CLASS:PUBLIC
SUMMARY:[AKH] League Phase Two Deadline
END:VEVENT
BEGIN:VEVENT
DTSTAMP:20260425T202947Z
UID:38dae54b-d4b7-48d6-9169-644fcdbd62b7
DTSTART:20170727T000000
CLASS:PUBLIC
SUMMARY:[AKH] League Phase Three Deadline
END:VEVENT
BEGIN:VEVENT
DTSTAMP:20260425T202947Z
UID:b6410a6b-231d-4bb1-8e2a-956b460f811e
DTSTART:20170515T000000
CLASS:PUBLIC
SUMMARY:[AHDL] Amonkhet Draft
END:VEVENT
END:VCALENDAR
