BEGIN:VCALENDAR
VERSION:2.0
PRODID:Magic the Gathering Professional Events
CALSCALE:GREGORIAN
METHOD:PUBLISH
BEGIN:VEVENT
DTSTAMP:20260420T085311Z
UID:4d5c6516-10a6-4d92-8882-01ba65edd1e9
DTSTART:20110924T000000
CLASS:PUBLIC
SUMMARY:Innistrad Prerelease
END:VEVENT
BEGIN:VEVENT
DTSTAMP:20260420T085311Z
UID:62066334-9dc6-48ea-8f15-20b040c81e3a
DTSTART:20111001T000000
CLASS:PUBLIC
SUMMARY:Innistrad Launch Party
END:VEVENT
BEGIN:VEVENT
DTSTAMP:20260420T085311Z
UID:bc56923e-7213-4630-b444-b29772448c85
DTSTART:20111029T000000
CLASS:PUBLIC
SUMMARY:Innistrad Game Day
END:VEVENT
BEGIN:VEVENT
DTSTAMP:20260420T085311Z
UID:691bfc44-2cf0-4866-b8d3-b358f4244f54
DTSTART:20110128T000000
CLASS:PUBLIC
SUMMARY:Prerelease Dark Ascension 1
END:VEVENT
BEGIN:VEVENT
DTSTAMP:20260420T085311Z
UID:6444f912-5cd1-4fa2-bb18-801de15ea6d5
DTSTART:20120128T000000
CLASS:PUBLIC
SUMMARY:Prerelease Dark Ascension 1
END:VEVENT
BEGIN:VEVENT
DTSTAMP:20260420T085311Z
UID:b38c9893-384b-48f0-bd6f-880d05adce0b
DTSTART:20120128T000000
CLASS:PUBLIC
SUMMARY:Prerelease Dark Ascension 2
END:VEVENT
BEGIN:VEVENT
DTSTAMP:20260420T085311Z
UID:edfba00c-5917-4bad-882c-ad1ea69cb039
DTSTART:20120129T000000
CLASS:PUBLIC
SUMMARY:Prerelease Dark Ascension 3
END:VEVENT
BEGIN:VEVENT
DTSTAMP:20260420T085311Z
UID:a092222e-a43d-40b6-bff6-514648c4943b
DTSTART:20120203T000000
CLASS:PUBLIC
SUMMARY:Launch Party Dark Ascension
END:VEVENT
BEGIN:VEVENT
DTSTAMP:20260420T085311Z
UID:9aeb4728-0205-4f1f-b2d2-ba1377b22a3c
DTSTART:20120225T000000
CLASS:PUBLIC
SUMMARY:Game Day Dark Ascension
END:VEVENT
BEGIN:VEVENT
DTSTAMP:20260420T085311Z
UID:1d39705f-2eb9-4f1a-9c79-80d9ed273264
DTSTART:20120428T000000
CLASS:PUBLIC
SUMMARY:Prerelease Avacyn Restored 1
END:VEVENT
BEGIN:VEVENT
DTSTAMP:20260420T085311Z
UID:53611367-a463-4766-9f85-227162565f27
DTSTART:20120428T000000
CLASS:PUBLIC
SUMMARY:Prerelease Avacyn Restored 2
END:VEVENT
BEGIN:VEVENT
DTSTAMP:20260420T085311Z
UID:1dd53b82-ada5-4bfa-8c73-53ab45e90375
DTSTART:20120429T000000
CLASS:PUBLIC
SUMMARY:Prerelease Avacyn Restored 3
END:VEVENT
BEGIN:VEVENT
DTSTAMP:20260420T085311Z
UID:d3701ff1-603b-4817-9685-ea2a8c71e20e
DTSTART:20120504T000000
CLASS:PUBLIC
SUMMARY:Launch Party Avacyn Restored
END:VEVENT
BEGIN:VEVENT
DTSTAMP:20260420T085311Z
UID:b3556467-f2e1-4be7-b63f-d494a3a7433b
DTSTART:20120526T000000
CLASS:PUBLIC
SUMMARY:Game Day Avacyn Restored
END:VEVENT
BEGIN:VEVENT
DTSTAMP:20260420T085311Z
UID:964c437d-18ac-4cca-9a84-5d3a1901401c
DTSTART:20120707T000000
CLASS:PUBLIC
SUMMARY:M13 Prerelease
END:VEVENT
BEGIN:VEVENT
DTSTAMP:20260420T085311Z
UID:ee76961d-62e1-43f0-a66d-2d0044cf749b
DTSTART:20120707T000000
CLASS:PUBLIC
SUMMARY:M13 Prerelease
END:VEVENT
BEGIN:VEVENT
DTSTAMP:20260420T085311Z
UID:d23162e8-f781-4606-b042-abbef4730d9c
DTSTART:20120708T000000
CLASS:PUBLIC
SUMMARY:M13 Prerelease
END:VEVENT
BEGIN:VEVENT
DTSTAMP:20260420T085311Z
UID:2079dd29-62de-43e7-b05a-2fa52d40e820
DTSTART:20120713T000000
CLASS:PUBLIC
SUMMARY:M13 Launch Party
END:VEVENT
BEGIN:VEVENT
DTSTAMP:20260420T085311Z
UID:925b4895-b637-4e2d-85d1-5cc9edbf32cd
DTSTART:20120804T000000
CLASS:PUBLIC
SUMMARY:M13 Game Day
END:VEVENT
BEGIN:VEVENT
DTSTAMP:20260420T085311Z
UID:a519681f-58ed-46cf-9f67-6fb031857eac
DTSTART:20120929T000000
CLASS:PUBLIC
SUMMARY:Return to Ravnica Prerelease
END:VEVENT
BEGIN:VEVENT
DTSTAMP:20260420T085311Z
UID:70869675-d9dc-41b1-8b4a-b0c834912bfb
DTSTART:20120930T000000
CLASS:PUBLIC
SUMMARY:Return to Ravnica Prerelease
END:VEVENT
BEGIN:VEVENT
DTSTAMP:20260420T085311Z
UID:6b49ec29-aa62-42cf-b5ed-ce4984b9393e
DTSTART:20121005T000000
CLASS:PUBLIC
SUMMARY:Return to Ravnica Launch Party
END:VEVENT
BEGIN:VEVENT
DTSTAMP:20260420T085311Z
UID:99904e81-293c-4f2c-a335-6de5c2b735a9
DTSTART:20121027T000000
CLASS:PUBLIC
SUMMARY:Return to Ravnica Game Day
END:VEVENT
BEGIN:VEVENT
DTSTAMP:20260420T085311Z
UID:d5f04abb-1aa9-4e55-8811-0044c7702173
DTSTART:20130126T000000
CLASS:PUBLIC
SUMMARY:Gatecrash Prerelease
END:VEVENT
BEGIN:VEVENT
DTSTAMP:20260420T085311Z
UID:e6f0e155-6942-476b-97e9-e7457d8fca53
DTSTART:20130127T000000
CLASS:PUBLIC
SUMMARY:Gatecrash Prerelease
END:VEVENT
BEGIN:VEVENT
DTSTAMP:20260420T085311Z
UID:67c290d3-6da2-4855-aec0-df9401be6bdc
DTSTART:20130201T000000
CLASS:PUBLIC
SUMMARY:Gatecrash Launch Party
END:VEVENT
BEGIN:VEVENT
DTSTAMP:20260420T085311Z
UID:4f0dd3d6-c49a-4081-8fb9-6cf30e773c17
DTSTART:20130223T000000
CLASS:PUBLIC
SUMMARY:Gatecrash Game Day
END:VEVENT
BEGIN:VEVENT
DTSTAMP:20260420T085311Z
UID:041e87a3-1912-48cc-a813-00cbc48e8821
DTSTART:20130713T000000
CLASS:PUBLIC
SUMMARY:M14 Prerelease 1
END:VEVENT
BEGIN:VEVENT
DTSTAMP:20260420T085311Z
UID:3713645b-34da-4657-bd6a-882489e8daa7
DTSTART:20130714T000000
CLASS:PUBLIC
SUMMARY:M14 Prerelease 2
END:VEVENT
BEGIN:VEVENT
DTSTAMP:20260420T085311Z
UID:47a6b692-78e0-43d2-bb59-a466c707d19f
DTSTART:20130719T000000
CLASS:PUBLIC
SUMMARY:M14 Launch Sealed
END:VEVENT
BEGIN:VEVENT
DTSTAMP:20260420T085311Z
UID:f2516341-f76f-42c6-9250-69ad1ba82ba2
DTSTART:20130719T000000
CLASS:PUBLIC
SUMMARY:M14 Launch Draft
END:VEVENT
BEGIN:VEVENT
DTSTAMP:20260420T085311Z
UID:d62bf9f3-60b3-4429-b765-f3db6d9bb4c3
DTSTART:20130810T000000
CLASS:PUBLIC
SUMMARY:M14 Game Day
END:VEVENT
BEGIN:VEVENT
DTSTAMP:20260420T085311Z
UID:a82ad947-f57a-430f-ac2e-29de52b972d4
DTSTART:20130921T000000
CLASS:PUBLIC
SUMMARY:Theros Prerelease
END:VEVENT
BEGIN:VEVENT
DTSTAMP:20260420T085311Z
UID:8361b5de-8581-4360-aace-57136e44049b
DTSTART:20130922T000000
CLASS:PUBLIC
SUMMARY:Theros Prerelease
END:VEVENT
BEGIN:VEVENT
DTSTAMP:20260420T085311Z
UID:06bb0e17-61c3-4521-9011-9576714f0202
DTSTART:20130927T000000
CLASS:PUBLIC
SUMMARY:Theros Launch Party
END:VEVENT
BEGIN:VEVENT
DTSTAMP:20260420T085311Z
UID:975d3053-746b-40f1-9bfa-26c83c71c486
DTSTART:20130927T000000
CLASS:PUBLIC
SUMMARY:Theros Launch Party
END:VEVENT
BEGIN:VEVENT
DTSTAMP:20260420T085311Z
UID:33e55a16-b276-4857-a48e-cb8c1af6b122
DTSTART:20131019T000000
CLASS:PUBLIC
SUMMARY:Theros Game Day
END:VEVENT
BEGIN:VEVENT
DTSTAMP:20260420T085311Z
UID:baeaf3a7-a602-4baf-aa35-8481a22d0bfd
DTSTART:20130920T000000
CLASS:PUBLIC
SUMMARY:Theros Prerelease
END:VEVENT
BEGIN:VEVENT
DTSTAMP:20260420T085311Z
UID:ff386c21-1173-47ca-b1da-61127f8385ec
DTSTART:20131005T000000
CLASS:PUBLIC
SUMMARY:Star City Open Trial
END:VEVENT
BEGIN:VEVENT
DTSTAMP:20260420T085311Z
UID:7c696ba2-d295-43a9-9c6b-9ae3a62d6021
DTSTART:20140201T000000
CLASS:PUBLIC
SUMMARY:Born of the Gods Prerelease
END:VEVENT
BEGIN:VEVENT
DTSTAMP:20260420T085311Z
UID:d6498ca3-33c6-4b9c-a5b5-5e308bedf89e
DTSTART:20140201T000000
CLASS:PUBLIC
SUMMARY:Born of the Gods Prerelease
END:VEVENT
BEGIN:VEVENT
DTSTAMP:20260420T085311Z
UID:deb84ad1-087b-407b-8124-2c75fbb808a5
DTSTART:20140202T000000
CLASS:PUBLIC
SUMMARY:Born of the Gods Prerelease
END:VEVENT
BEGIN:VEVENT
DTSTAMP:20260420T085311Z
UID:fe0155c1-15a2-4991-8882-80f8ddf21cf1
DTSTART:20140207T000000
CLASS:PUBLIC
SUMMARY:Born of the Gods Launch
END:VEVENT
BEGIN:VEVENT
DTSTAMP:20260420T085311Z
UID:a57b8031-46f9-4449-bbd3-00795d1d5f2f
DTSTART:20140301T000000
CLASS:PUBLIC
SUMMARY:Born of the Gods Game Day
END:VEVENT
END:VCALENDAR
