BEGIN:VCALENDAR
VERSION:2.0
PRODID:Magic the Gathering Professional Events
CALSCALE:GREGORIAN
METHOD:PUBLISH
BEGIN:VEVENT
DTSTAMP:20260420T061400Z
UID:766ad3e6-3108-4c25-8412-49e685eeee1e
DTSTART:20140222T000000
CLASS:PUBLIC
SUMMARY:Eternal Struggle #3 - Proxy Vintage tournament in Austin\, TX
END:VEVENT
END:VCALENDAR
