BEGIN:VCALENDAR
VERSION:2.0
PRODID:Magic the Gathering Professional Events
CALSCALE:GREGORIAN
METHOD:PUBLISH
BEGIN:VEVENT
DTSTAMP:20260420T074206Z
UID:151257c9-945f-4d78-b599-c50404f5f1ce
DTSTART:20140125T000000
CLASS:PUBLIC
SUMMARY:Proxied Legacy
END:VEVENT
END:VCALENDAR
