BEGIN:VCALENDAR
VERSION:2.0
PRODID:Magic the Gathering Professional Events
CALSCALE:GREGORIAN
METHOD:PUBLISH
BEGIN:VEVENT
DTSTAMP:20260423T203551Z
UID:e335e78d-6f55-4520-ba37-73469e874dfa
DTSTART:20121101T000000
CLASS:PUBLIC
SUMMARY:Magic @ Andy&#39;s New Place
END:VEVENT
BEGIN:VEVENT
DTSTAMP:20260423T203551Z
UID:9d697eff-d320-4750-a962-b15bb538f804
DTSTART:20121115T000000
CLASS:PUBLIC
SUMMARY:EDH @ Mark&#39;s
END:VEVENT
BEGIN:VEVENT
DTSTAMP:20260423T203551Z
UID:43b14328-28c3-401a-8ac5-78895b5ef050
DTSTART:20121110T000000
CLASS:PUBLIC
SUMMARY:Casual Magic
END:VEVENT
BEGIN:VEVENT
DTSTAMP:20260423T203551Z
UID:294e4f29-617a-433a-92b7-0168a827073d
DTSTART:20121120T000000
CLASS:PUBLIC
SUMMARY:Casual Magic
END:VEVENT
BEGIN:VEVENT
DTSTAMP:20260423T203551Z
UID:ea03a4e4-35ce-4543-bd44-408dbc6a8ffa
DTSTART:20120209T000000
CLASS:PUBLIC
SUMMARY:GC Guild Star
END:VEVENT
BEGIN:VEVENT
DTSTAMP:20260423T203551Z
UID:1a7e8f21-9253-4283-b4e3-0394fcaee448
DTSTART:20121218T000000
CLASS:PUBLIC
SUMMARY:RTR Guild Star
END:VEVENT
BEGIN:VEVENT
DTSTAMP:20260423T203551Z
UID:a639d3aa-a570-47f8-9b2b-643f7177ee3f
DTSTART:20121202T000000
CLASS:PUBLIC
SUMMARY:Damnit I will have a game which Bazz joins or die trying
END:VEVENT
BEGIN:VEVENT
DTSTAMP:20260423T203551Z
UID:132a7cef-6c53-4af7-99e0-ecbecabc8d79
DTSTART:20121207T000000
CLASS:PUBLIC
SUMMARY:Casual Magic For Non-Icelanders
END:VEVENT
BEGIN:VEVENT
DTSTAMP:20260423T203551Z
UID:2ae5be28-84d4-420f-a51c-ee852185a204
DTSTART:20130209T000000
CLASS:PUBLIC
SUMMARY:London GP
END:VEVENT
BEGIN:VEVENT
DTSTAMP:20260423T203551Z
UID:b7cb3be9-bc14-4011-b962-269e7e62d0f7
DTSTART:20130125T000000
CLASS:PUBLIC
SUMMARY:Gatecrash Pre-Release 1
END:VEVENT
BEGIN:VEVENT
DTSTAMP:20260423T203551Z
UID:fc4771f4-202e-4542-9b5c-c334068eb37d
DTSTART:20130127T000000
CLASS:PUBLIC
SUMMARY:Gatecrash Pre-Release 2HG
END:VEVENT
BEGIN:VEVENT
DTSTAMP:20260423T203551Z
UID:e9dabf58-dfae-4350-b6c7-799a7d41f9a0
DTSTART:20130126T000000
CLASS:PUBLIC
SUMMARY:Gatecrash Pre-Release 2
END:VEVENT
BEGIN:VEVENT
DTSTAMP:20260423T203551Z
UID:36aafeaa-d838-4c99-ad79-5acbd8d4c2a1
DTSTART:20130127T000000
CLASS:PUBLIC
SUMMARY:Gatecrash Pre-Release 3
END:VEVENT
BEGIN:VEVENT
DTSTAMP:20260423T203551Z
UID:3823785f-b3a1-4108-9b2b-d97700205ea8
DTSTART:20130106T000000
CLASS:PUBLIC
SUMMARY:New Year\, Same Magic
END:VEVENT
BEGIN:VEVENT
DTSTAMP:20260423T203551Z
UID:ffd9172f-7f89-4967-bbef-44cfc8e53e7c
DTSTART:20130222T000000
CLASS:PUBLIC
SUMMARY:Commander&#39;s Alliance Guild Star City Tour
END:VEVENT
BEGIN:VEVENT
DTSTAMP:20260423T203551Z
UID:da37e23c-9f32-47cb-ab99-2eb5f37546b3
DTSTART:20130127T000000
CLASS:PUBLIC
SUMMARY:Patriot Games GC Prerelease
END:VEVENT
BEGIN:VEVENT
DTSTAMP:20260423T203551Z
UID:16980e18-5bc9-451b-b662-6ec603c9dfa6
DTSTART:20130117T000000
CLASS:PUBLIC
SUMMARY:Magic
END:VEVENT
BEGIN:VEVENT
DTSTAMP:20260423T203551Z
UID:c9aa3734-00a2-47b5-8753-623a7b51102b
DTSTART:20130123T000000
CLASS:PUBLIC
SUMMARY:Gateslipperysurface
END:VEVENT
BEGIN:VEVENT
DTSTAMP:20260423T203551Z
UID:91d3f26a-9f1d-41ba-82d8-9e48c699a633
DTSTART:20130207T000000
CLASS:PUBLIC
SUMMARY:Gatecrash Booster Draft
END:VEVENT
BEGIN:VEVENT
DTSTAMP:20260423T203551Z
UID:9b6f5466-2ce5-434e-b1ea-062781a53482
DTSTART:20130223T000000
CLASS:PUBLIC
SUMMARY:Gatecrash Game Day
END:VEVENT
BEGIN:VEVENT
DTSTAMP:20260423T203551Z
UID:31ae8aca-c3d3-4a23-98c3-293739b17e35
DTSTART:20130306T000000
CLASS:PUBLIC
SUMMARY:Casual Magic
END:VEVENT
BEGIN:VEVENT
DTSTAMP:20260423T203551Z
UID:9881e765-053e-47a1-b6e9-d89543c18b0f
DTSTART:20130313T000000
CLASS:PUBLIC
SUMMARY:Casual Magic
END:VEVENT
BEGIN:VEVENT
DTSTAMP:20260423T203551Z
UID:2899b42d-0b4d-4a07-9d80-6ef4a6694b42
DTSTART:20130320T000000
CLASS:PUBLIC
SUMMARY:Wednesday Night Magic
END:VEVENT
BEGIN:VEVENT
DTSTAMP:20260423T203551Z
UID:5ff1f30a-2937-412d-8112-114724d5a9be
DTSTART:20130324T000000
CLASS:PUBLIC
SUMMARY:Sunday Afternoon Magic
END:VEVENT
BEGIN:VEVENT
DTSTAMP:20260423T203551Z
UID:49163bd2-d1a6-4746-be52-c8d46e3255d2
DTSTART:20130327T000000
CLASS:PUBLIC
SUMMARY:Possibly?
END:VEVENT
BEGIN:VEVENT
DTSTAMP:20260423T203551Z
UID:68276d7f-dc4b-417e-9a19-c629ed4fdcf3
DTSTART:20130707T000000
CLASS:PUBLIC
SUMMARY:BYOB - Bring Your Own Boosters
END:VEVENT
BEGIN:VEVENT
DTSTAMP:20260423T203551Z
UID:08a0e759-8dfc-46a9-af31-721e7cadb824
DTSTART:20130414T000000
CLASS:PUBLIC
SUMMARY:IWBEBSR - I Will Bring Every Body Some Repacks
END:VEVENT
BEGIN:VEVENT
DTSTAMP:20260423T203551Z
UID:0d4ff6eb-7db3-454d-8c7c-5a8832c7784c
DTSTART:20130411T000000
CLASS:PUBLIC
SUMMARY:PTQ Prep
END:VEVENT
BEGIN:VEVENT
DTSTAMP:20260423T203551Z
UID:3bd42591-8dd4-4123-81e2-3b472ca9f99b
DTSTART:20130425T000000
CLASS:PUBLIC
SUMMARY:Casual Magic
END:VEVENT
BEGIN:VEVENT
DTSTAMP:20260423T203551Z
UID:af7cc3f9-259b-43af-9a9f-6c0c0a25127d
DTSTART:20130508T000000
CLASS:PUBLIC
SUMMARY:Dragon&#39;s Maze Sealed
END:VEVENT
BEGIN:VEVENT
DTSTAMP:20260423T203551Z
UID:08cd8a4e-b2b9-4cfe-9947-2b2d8c3f7441
DTSTART:20130501T000000
CLASS:PUBLIC
SUMMARY:Short notice MTG
END:VEVENT
BEGIN:VEVENT
DTSTAMP:20260423T203551Z
UID:c531320e-2084-4ef1-8ad6-70dd8ea9e3ff
DTSTART:20130601T000000
CLASS:PUBLIC
SUMMARY:Manchester PTQ
END:VEVENT
BEGIN:VEVENT
DTSTAMP:20260423T203551Z
UID:c2a9e3f5-3d95-4465-8cf7-06b6eb61a4e2
DTSTART:20130519T000000
CLASS:PUBLIC
SUMMARY:Casual Magic
END:VEVENT
BEGIN:VEVENT
DTSTAMP:20260423T203551Z
UID:722d65e0-dfc6-468b-aaef-96f978ea90d4
DTSTART:20130527T000000
CLASS:PUBLIC
SUMMARY:A Magical BBQ
END:VEVENT
BEGIN:VEVENT
DTSTAMP:20260423T203551Z
UID:f79a9de0-5811-40b9-90fc-2296f7163dc0
DTSTART:20130606T000000
CLASS:PUBLIC
SUMMARY:Casual Magic
END:VEVENT
BEGIN:VEVENT
DTSTAMP:20260423T203551Z
UID:634c1362-e9c3-4893-913d-2131ac1f5068
DTSTART:20130608T000000
CLASS:PUBLIC
SUMMARY:Modern Masters Release
END:VEVENT
BEGIN:VEVENT
DTSTAMP:20260423T203551Z
UID:b489975e-e02a-4887-8410-73fca417821a
DTSTART:20130612T000000
CLASS:PUBLIC
SUMMARY:Modern Masters Limited
END:VEVENT
BEGIN:VEVENT
DTSTAMP:20260423T203551Z
UID:8423f4da-f605-4205-af74-8c1a230c933c
DTSTART:20130618T000000
CLASS:PUBLIC
SUMMARY:Causal Magic
END:VEVENT
BEGIN:VEVENT
DTSTAMP:20260423T203551Z
UID:7ba46c78-2339-412c-a5cc-7bd339fc7230
DTSTART:20130626T000000
CLASS:PUBLIC
SUMMARY:MM Draft
END:VEVENT
BEGIN:VEVENT
DTSTAMP:20260423T203551Z
UID:3e3e6281-ef42-4fca-bd71-b4a9392f736e
DTSTART:20130703T000000
CLASS:PUBLIC
SUMMARY:New Deck Night
END:VEVENT
BEGIN:VEVENT
DTSTAMP:20260423T203551Z
UID:aaa98b3f-0018-4a3d-951e-5d2a584fc81d
DTSTART:20130714T000000
CLASS:PUBLIC
SUMMARY:A Magical Evening
END:VEVENT
BEGIN:VEVENT
DTSTAMP:20260423T203551Z
UID:b5e1dfc7-eb0d-4471-903a-41c3f829081a
DTSTART:20130725T000000
CLASS:PUBLIC
SUMMARY:Casual Magic
END:VEVENT
BEGIN:VEVENT
DTSTAMP:20260423T203551Z
UID:a4cffec3-a35c-484b-9541-d55c6f0a9f20
DTSTART:20130801T000000
CLASS:PUBLIC
SUMMARY:M14 Draft
END:VEVENT
BEGIN:VEVENT
DTSTAMP:20260423T203551Z
UID:d418523e-5890-46fe-aeeb-9413b9772c67
DTSTART:20130901T000000
CLASS:PUBLIC
SUMMARY:The Most Stupid Wonderful Draft Ever
END:VEVENT
BEGIN:VEVENT
DTSTAMP:20260423T203551Z
UID:25a0421e-8a71-4a12-b657-2715207725e0
DTSTART:20130814T000000
CLASS:PUBLIC
SUMMARY:Majiiiiiiiic
END:VEVENT
BEGIN:VEVENT
DTSTAMP:20260423T203551Z
UID:ba9940e0-ddf5-4bd8-9a89-e78df111dd6f
DTSTART:20130822T000000
CLASS:PUBLIC
SUMMARY:Magics
END:VEVENT
BEGIN:VEVENT
DTSTAMP:20260423T203551Z
UID:e7e0f873-09ee-4c0f-869f-1c86904123f7
DTSTART:20130908T000000
CLASS:PUBLIC
SUMMARY:Casual Magic
END:VEVENT
BEGIN:VEVENT
DTSTAMP:20260423T203551Z
UID:f9de7c68-9044-4f0f-961e-62a3aa01b0c4
DTSTART:20131003T000000
CLASS:PUBLIC
SUMMARY:Yay!
END:VEVENT
BEGIN:VEVENT
DTSTAMP:20260423T203551Z
UID:161fe4d9-16fa-4010-b2ea-d95041cc4482
DTSTART:20131024T000000
CLASS:PUBLIC
SUMMARY:Magic
END:VEVENT
BEGIN:VEVENT
DTSTAMP:20260423T203551Z
UID:15893050-e379-4444-95d3-8a454ee3d91e
DTSTART:20131114T000000
CLASS:PUBLIC
SUMMARY:Casual MTG
END:VEVENT
BEGIN:VEVENT
DTSTAMP:20260423T203551Z
UID:894562a4-e050-40ed-aca8-667476c14b37
DTSTART:20131128T000000
CLASS:PUBLIC
SUMMARY:Magic. Strangely.
END:VEVENT
BEGIN:VEVENT
DTSTAMP:20260423T203551Z
UID:f0060f4c-3827-472b-91b6-0829b7708a46
DTSTART:20131208T000000
CLASS:PUBLIC
SUMMARY:Magic Sunday?
END:VEVENT
BEGIN:VEVENT
DTSTAMP:20260423T203551Z
UID:55601532-9648-40c5-acef-9f7a22f0a412
DTSTART:20131206T000000
CLASS:PUBLIC
SUMMARY:Friday Night Cube
END:VEVENT
BEGIN:VEVENT
DTSTAMP:20260423T203551Z
UID:fed392cd-45cc-46e3-af31-2abca60b5797
DTSTART:20131220T000000
CLASS:PUBLIC
SUMMARY:Friday Night Magic @ Travelling Man
END:VEVENT
BEGIN:VEVENT
DTSTAMP:20260423T203551Z
UID:968a39e3-f511-4b71-ac3b-2437f5d7faeb
DTSTART:20131222T000000
CLASS:PUBLIC
SUMMARY:Sunday magic
END:VEVENT
BEGIN:VEVENT
DTSTAMP:20260423T203551Z
UID:8110ed2c-df9a-43de-8482-e7b67267c45c
DTSTART:20140111T000000
CLASS:PUBLIC
SUMMARY:Mixed Set Booster Draft
END:VEVENT
BEGIN:VEVENT
DTSTAMP:20260423T203551Z
UID:fd306ca2-3c41-49f4-9c65-162bd516d36b
DTSTART:20140316T000000
CLASS:PUBLIC
SUMMARY:Pauper EDH
END:VEVENT
BEGIN:VEVENT
DTSTAMP:20260423T203551Z
UID:777149a2-6950-4c3f-8345-0a8b22639829
DTSTART:20140223T000000
CLASS:PUBLIC
SUMMARY:Magics
END:VEVENT
BEGIN:VEVENT
DTSTAMP:20260423T203551Z
UID:7e857f0e-79bb-4fe5-801f-e22215c42495
DTSTART:20140413T000000
CLASS:PUBLIC
SUMMARY:Moar Magic
END:VEVENT
BEGIN:VEVENT
DTSTAMP:20260423T203551Z
UID:f3811926-3b67-4565-86fd-dafbe33d7c42
DTSTART:20140526T000000
CLASS:PUBLIC
SUMMARY:Bank Holiday Magic
END:VEVENT
BEGIN:VEVENT
DTSTAMP:20260423T203551Z
UID:82449607-d834-4858-9600-344eb5edd7c5
DTSTART:20140629T000000
CLASS:PUBLIC
SUMMARY:Magic Sunday
END:VEVENT
BEGIN:VEVENT
DTSTAMP:20260423T203551Z
UID:322346c3-286e-46ae-a18e-2008ccbc6310
DTSTART:20140723T000000
CLASS:PUBLIC
SUMMARY:PTQ Preparation
END:VEVENT
BEGIN:VEVENT
DTSTAMP:20260423T203551Z
UID:2945f6dc-dfac-49bf-bfdb-e33f57b52529
DTSTART:20141012T000000
CLASS:PUBLIC
SUMMARY:Magic Days Are Here Again
END:VEVENT
END:VCALENDAR
