BEGIN:VCALENDAR
VERSION:2.0
PRODID:Magic the Gathering Professional Events
CALSCALE:GREGORIAN
METHOD:PUBLISH
BEGIN:VEVENT
DTSTAMP:20260419T140401Z
UID:cf3af1f5-6019-4394-a8fc-bf1941363d77
DTSTART:20120211T000000
CLASS:PUBLIC
SUMMARY:Standard Pauper
END:VEVENT
BEGIN:VEVENT
DTSTAMP:20260419T140401Z
UID:53a9696b-765b-459b-aba7-a431fefaa233
DTSTART:20121027T000000
CLASS:PUBLIC
SUMMARY:Standard
END:VEVENT
BEGIN:VEVENT
DTSTAMP:20260419T140401Z
UID:3b89a67a-fe1d-4c41-a0fd-6d3f8e7e98c2
DTSTART:20121029T000000
CLASS:PUBLIC
SUMMARY:RTR Draft
END:VEVENT
BEGIN:VEVENT
DTSTAMP:20260419T140401Z
UID:3232775d-6dcf-42ae-8854-d9a4d367973a
DTSTART:20121103T000000
CLASS:PUBLIC
SUMMARY:Noble Event
END:VEVENT
END:VCALENDAR
