BEGIN:VCALENDAR
VERSION:2.0
PRODID:Magic the Gathering Professional Events
CALSCALE:GREGORIAN
METHOD:PUBLISH
BEGIN:VEVENT
DTSTAMP:20260420T223926Z
UID:632388c2-bf9d-4cb4-9359-04bd08352817
DTSTART:20110415T000000
CLASS:PUBLIC
SUMMARY:Duelo
END:VEVENT
BEGIN:VEVENT
DTSTAMP:20260420T223926Z
UID:ab34f51b-b706-4f99-b87c-0ce3d8d161d8
DTSTART:20110418T000000
CLASS:PUBLIC
SUMMARY:Duelo
END:VEVENT
BEGIN:VEVENT
DTSTAMP:20260420T223926Z
UID:39f8c1df-4655-4a1f-98e1-7178dc01b6bc
DTSTART:20110420T000000
CLASS:PUBLIC
SUMMARY:Reunión
END:VEVENT
BEGIN:VEVENT
DTSTAMP:20260420T223926Z
UID:b560d4d7-5514-4e18-bd11-6020836f87c8
DTSTART:20110422T000000
CLASS:PUBLIC
SUMMARY:Reunión
END:VEVENT
BEGIN:VEVENT
DTSTAMP:20260420T223926Z
UID:9e5aceb8-9a68-4a50-9509-e84119fe0db6
DTSTART:20110426T000000
CLASS:PUBLIC
SUMMARY:Reunión
END:VEVENT
BEGIN:VEVENT
DTSTAMP:20260420T223926Z
UID:e599616c-2084-4fe0-b7f1-7ab5d030af98
DTSTART:20110516T000000
CLASS:PUBLIC
SUMMARY:Reunión
END:VEVENT
BEGIN:VEVENT
DTSTAMP:20260420T223926Z
UID:29ed8b27-8a7c-4714-95fe-9bf70e42a240
DTSTART:20110518T000000
CLASS:PUBLIC
SUMMARY:Reunión
END:VEVENT
BEGIN:VEVENT
DTSTAMP:20260420T223926Z
UID:adb6b910-0e85-403f-9729-353ee30d7054
DTSTART:20110520T000000
CLASS:PUBLIC
SUMMARY:Reunión
END:VEVENT
BEGIN:VEVENT
DTSTAMP:20260420T223926Z
UID:4d3db9fd-432f-4d1a-9541-43e7541ffbc2
DTSTART:20110523T000000
CLASS:PUBLIC
SUMMARY:Reunión
END:VEVENT
BEGIN:VEVENT
DTSTAMP:20260420T223926Z
UID:42442fbd-e48c-4fc4-990f-3cf4f1fa55dd
DTSTART:20110525T000000
CLASS:PUBLIC
SUMMARY:Reunión
END:VEVENT
BEGIN:VEVENT
DTSTAMP:20260420T223926Z
UID:67ad5e75-e690-4996-984c-6444c0e943f3
DTSTART:20110601T000000
CLASS:PUBLIC
SUMMARY:Reunión
END:VEVENT
BEGIN:VEVENT
DTSTAMP:20260420T223926Z
UID:c45f2b4a-0e10-419e-8f18-7cf230f97c43
DTSTART:20110606T000000
CLASS:PUBLIC
SUMMARY:Reunión
END:VEVENT
BEGIN:VEVENT
DTSTAMP:20260420T223926Z
UID:466fd321-2f5a-4b20-a9d7-ae257bf17fa5
DTSTART:20110608T000000
CLASS:PUBLIC
SUMMARY:Reunión
END:VEVENT
BEGIN:VEVENT
DTSTAMP:20260420T223926Z
UID:2b4f2aab-f01b-476e-aaf7-b54018fb0b81
DTSTART:20110610T000000
CLASS:PUBLIC
SUMMARY:Reunión
END:VEVENT
BEGIN:VEVENT
DTSTAMP:20260420T223926Z
UID:9b8bff96-8060-4585-99e5-770257f83ab3
DTSTART:20110613T000000
CLASS:PUBLIC
SUMMARY:Reunión
END:VEVENT
BEGIN:VEVENT
DTSTAMP:20260420T223926Z
UID:6b45e0ca-3be9-4e6f-9c0c-5d04ae282021
DTSTART:20110706T000000
CLASS:PUBLIC
SUMMARY:Reunión
END:VEVENT
END:VCALENDAR
