BEGIN:VCALENDAR
VERSION:2.0
PRODID:Magic the Gathering Professional Events
CALSCALE:GREGORIAN
METHOD:PUBLISH
BEGIN:VEVENT
DTSTAMP:20260420T055923Z
UID:e8edd617-ef7f-40dd-aa76-1c09d6437c49
DTSTART:20130125T000000
CLASS:PUBLIC
SUMMARY:Ramdom Night
END:VEVENT
BEGIN:VEVENT
DTSTAMP:20260420T055923Z
UID:b8bb2970-701c-4803-b24f-4ae95b6ebd9c
DTSTART:20130126T000000
CLASS:PUBLIC
SUMMARY:Outpost Antwerp / Trein
END:VEVENT
BEGIN:VEVENT
DTSTAMP:20260420T055923Z
UID:86287665-f48b-4202-a655-4a55e765e131
DTSTART:20130201T000000
CLASS:PUBLIC
SUMMARY:@ Oreios
END:VEVENT
BEGIN:VEVENT
DTSTAMP:20260420T055923Z
UID:18d2bf83-9422-4e40-9391-ecaa58357da2
DTSTART:20130224T000000
CLASS:PUBLIC
SUMMARY:Modern Tournament
END:VEVENT
BEGIN:VEVENT
DTSTAMP:20260420T055923Z
UID:a0388674-ce87-4488-b65d-185f679d6359
DTSTART:20130208T000000
CLASS:PUBLIC
SUMMARY:Multiplayer formats!
END:VEVENT
BEGIN:VEVENT
DTSTAMP:20260420T055923Z
UID:71bd9685-7592-42c5-96ed-9a6cfb379cd1
DTSTART:20130215T000000
CLASS:PUBLIC
SUMMARY:Frag-O-Matic
END:VEVENT
BEGIN:VEVENT
DTSTAMP:20260420T055923Z
UID:b70a744c-39f8-42cb-ab92-f32f37fc965f
DTSTART:20130216T000000
CLASS:PUBLIC
SUMMARY:Frag-O-Matic
END:VEVENT
BEGIN:VEVENT
DTSTAMP:20260420T055923Z
UID:0c2f35fe-4714-44b9-a03c-a74e57c92808
DTSTART:20130217T000000
CLASS:PUBLIC
SUMMARY:Frag-O-Matic
END:VEVENT
BEGIN:VEVENT
DTSTAMP:20260420T055923Z
UID:b61d12be-6ec8-46ef-88e7-5fe94ce9d262
DTSTART:20130221T000000
CLASS:PUBLIC
SUMMARY:Friday Night Magic
END:VEVENT
BEGIN:VEVENT
DTSTAMP:20260420T055923Z
UID:aa3f7fd0-3ce6-46fd-b148-e0bd9158b25a
DTSTART:20130301T000000
CLASS:PUBLIC
SUMMARY:FNM Oreios
END:VEVENT
END:VCALENDAR
