BEGIN:VCALENDAR
VERSION:2.0
PRODID:Magic the Gathering Professional Events
CALSCALE:GREGORIAN
METHOD:PUBLISH
BEGIN:VEVENT
DTSTAMP:20260422T111118Z
UID:7c26b371-7094-41ad-a379-063a68c36e24
DTSTART:20110805T000000
CLASS:PUBLIC
SUMMARY:Standard Constructed
END:VEVENT
BEGIN:VEVENT
DTSTAMP:20260422T111118Z
UID:2df410df-fa9f-4df1-b2cc-fe595af127d1
DTSTART:20110819T000000
CLASS:PUBLIC
SUMMARY:1 on 1 Commander Tournament
END:VEVENT
BEGIN:VEVENT
DTSTAMP:20260422T111118Z
UID:87b9ce33-322b-452c-9f61-8cc584e26ace
DTSTART:20120310T000000
CLASS:PUBLIC
SUMMARY:StarCity Games Open
END:VEVENT
BEGIN:VEVENT
DTSTAMP:20260422T111118Z
UID:235bb0ad-1a94-4f3d-a174-0e52a6e3fff0
DTSTART:20120311T000000
CLASS:PUBLIC
SUMMARY:StarCity Games Open
END:VEVENT
BEGIN:VEVENT
DTSTAMP:20260422T111118Z
UID:e69c72af-9ac7-42ef-a0a7-f9d24557b79a
DTSTART:20120414T000000
CLASS:PUBLIC
SUMMARY:TCGPlayer.com MaxPoint Series Silver Qualifier
END:VEVENT
BEGIN:VEVENT
DTSTAMP:20260422T111118Z
UID:db32a8ee-d1de-4edc-a73e-5b440e9186e2
DTSTART:20120825T000000
CLASS:PUBLIC
SUMMARY:TCGPlayer MaxPoint Series
END:VEVENT
BEGIN:VEVENT
DTSTAMP:20260422T111118Z
UID:645e4cc0-7e63-4e79-a495-1e955b493d01
DTSTART:20121110T000000
CLASS:PUBLIC
SUMMARY:StarCityGames.com Open Series Day 1
END:VEVENT
BEGIN:VEVENT
DTSTAMP:20260422T111118Z
UID:b339fcae-a621-4385-aa43-c54292afff4a
DTSTART:20121111T000000
CLASS:PUBLIC
SUMMARY:StarCityGames.com Open Series Day 2
END:VEVENT
BEGIN:VEVENT
DTSTAMP:20260422T111118Z
UID:45fdb11e-6e42-441e-986a-4f0b9961535f
DTSTART:20120721T000000
CLASS:PUBLIC
SUMMARY:Gunslinger Games (Dallas) - MTG 1K
END:VEVENT
BEGIN:VEVENT
DTSTAMP:20260422T111118Z
UID:c96792f9-0ef8-41ad-8e02-52cb27604539
DTSTART:20120623T000000
CLASS:PUBLIC
SUMMARY:TCGPlayer MaxPoint Series Platinum Qualifier
END:VEVENT
BEGIN:VEVENT
DTSTAMP:20260422T111118Z
UID:375553f0-12e0-4b5f-9e9f-8a6d4d88af64
DTSTART:20120701T000000
CLASS:PUBLIC
SUMMARY:Evo GameZ - Box Tournament
END:VEVENT
BEGIN:VEVENT
DTSTAMP:20260422T111118Z
UID:ff2f7fa3-3b5b-4170-abf0-14c75be560b8
DTSTART:20120721T000000
CLASS:PUBLIC
SUMMARY:More Fun Comics &amp;amp\; Game (Lancaster) - MTG M13 Case Tournament/G
 P Trial
END:VEVENT
BEGIN:VEVENT
DTSTAMP:20260422T111118Z
UID:dcbc09e1-3ef3-4a00-9628-5ef340d5161c
DTSTART:20120728T000000
CLASS:PUBLIC
SUMMARY:Comic Asylum (Fort Worth) - MTG PTQ
END:VEVENT
BEGIN:VEVENT
DTSTAMP:20260422T111118Z
UID:aa710f40-202d-4b29-8414-80694b07a319
DTSTART:20120915T000000
CLASS:PUBLIC
SUMMARY:TCGPlayer MaxPoint Series Platinum Qualifier (Denton)
END:VEVENT
BEGIN:VEVENT
DTSTAMP:20260422T111118Z
UID:36ce1c0d-6b4d-4287-a02a-d0ae387b1208
DTSTART:20130119T000000
CLASS:PUBLIC
SUMMARY:StarCityGames Standard Open
END:VEVENT
BEGIN:VEVENT
DTSTAMP:20260422T111118Z
UID:3a30e921-a33c-4848-bacd-008ab23636e4
DTSTART:20130120T000000
CLASS:PUBLIC
SUMMARY:StarCityGames Legacy Open
END:VEVENT
BEGIN:VEVENT
DTSTAMP:20260422T111118Z
UID:87db57c9-4a26-4cbb-92ee-6d4b48b1a1c4
DTSTART:20130615T000000
CLASS:PUBLIC
SUMMARY:Grand Prix Houston
END:VEVENT
BEGIN:VEVENT
DTSTAMP:20260422T111118Z
UID:fa6aacb9-aa21-4d32-b18c-a40ec5dc9f75
DTSTART:20131005T000000
CLASS:PUBLIC
SUMMARY:Grand Prix (Oklahoma City)
END:VEVENT
BEGIN:VEVENT
DTSTAMP:20260422T111118Z
UID:cd5cc1a3-b65f-42a7-8266-5f086c444de1
DTSTART:20130223T000000
CLASS:PUBLIC
SUMMARY:PTQ  Dragon&#39;s Maze
END:VEVENT
BEGIN:VEVENT
DTSTAMP:20260422T111118Z
UID:2b74c93e-3d6f-46d7-bda8-fbe199aa530e
DTSTART:20130413T000000
CLASS:PUBLIC
SUMMARY:Dallas - TCGplayer.com MaxPoint Series 5K
END:VEVENT
BEGIN:VEVENT
DTSTAMP:20260422T111118Z
UID:c75600ef-36bf-4c40-b3d7-17a003c127cf
DTSTART:20130511T000000
CLASS:PUBLIC
SUMMARY:Austin - TCGPlayer.com Maxpoint Series 5K
END:VEVENT
BEGIN:VEVENT
DTSTAMP:20260422T111118Z
UID:ad28eda1-96ef-4934-87c3-89dd920e8d16
DTSTART:20130928T000000
CLASS:PUBLIC
SUMMARY:TCG Max Point (Waco)
END:VEVENT
BEGIN:VEVENT
DTSTAMP:20260422T111118Z
UID:fb471a0e-9449-4731-8a84-ff442cf8f185
DTSTART:20131109T000000
CLASS:PUBLIC
SUMMARY:SCG Open: DFW (Standard)
END:VEVENT
BEGIN:VEVENT
DTSTAMP:20260422T111118Z
UID:868d8fe3-d46b-446f-ba4d-08a5650e4872
DTSTART:20131110T000000
CLASS:PUBLIC
SUMMARY:SCG Open: DFW (Legacy)
END:VEVENT
BEGIN:VEVENT
DTSTAMP:20260422T111118Z
UID:a9c9ae36-9e52-4583-9d79-f1d82de5e2e3
DTSTART:20131012T000000
CLASS:PUBLIC
SUMMARY:SCG Invitational Q (Plano)
END:VEVENT
BEGIN:VEVENT
DTSTAMP:20260422T111118Z
UID:60b80b11-e568-4d8d-a4b0-2899f768f909
DTSTART:20131019T000000
CLASS:PUBLIC
SUMMARY:Theros PTQ (San Antonio)
END:VEVENT
BEGIN:VEVENT
DTSTAMP:20260422T111118Z
UID:fd7aad89-8aa3-444d-b50f-012e2c3f75c2
DTSTART:20131102T000000
CLASS:PUBLIC
SUMMARY:Theros PTQ (DFW)
END:VEVENT
BEGIN:VEVENT
DTSTAMP:20260422T111118Z
UID:9f090d2b-6d78-4153-b1c8-9b3b5e8d0554
DTSTART:20131116T000000
CLASS:PUBLIC
SUMMARY:Theros PTQ (Lubbock)
END:VEVENT
BEGIN:VEVENT
DTSTAMP:20260422T111118Z
UID:d43fcb25-a0fa-425f-ba89-e1c4e1085458
DTSTART:20131130T000000
CLASS:PUBLIC
SUMMARY:Theros PTQ (Austin)
END:VEVENT
BEGIN:VEVENT
DTSTAMP:20260422T111118Z
UID:f0c38c85-2288-4df2-8f12-9a4c688b843a
DTSTART:20140125T000000
CLASS:PUBLIC
SUMMARY:StarCity Games Invitational Qualifier
END:VEVENT
BEGIN:VEVENT
DTSTAMP:20260422T111118Z
UID:795c671e-bbdc-477b-845b-e711ea97ec51
DTSTART:20140222T000000
CLASS:PUBLIC
SUMMARY:StarCity Games Invitational Qualifier
END:VEVENT
BEGIN:VEVENT
DTSTAMP:20260422T111118Z
UID:8588974b-123d-42b3-a50b-a7b7fccc73de
DTSTART:20140223T000000
CLASS:PUBLIC
SUMMARY:StarCity Games Super Invitational Qualifier
END:VEVENT
BEGIN:VEVENT
DTSTAMP:20260422T111118Z
UID:c8f21d0b-34b9-425a-acd5-855e72e52709
DTSTART:20140316T000000
CLASS:PUBLIC
SUMMARY:StarCityGames Super Invitational Qualifier
END:VEVENT
BEGIN:VEVENT
DTSTAMP:20260422T111118Z
UID:730431a6-bdf1-4008-a707-767efb3180e0
DTSTART:20140315T000000
CLASS:PUBLIC
SUMMARY:StarCity Games Invitational Qualifier
END:VEVENT
BEGIN:VEVENT
DTSTAMP:20260422T111118Z
UID:e9be869f-3474-4961-9a1a-c1c6cdaaebd7
DTSTART:20140215T000000
CLASS:PUBLIC
SUMMARY:Magic PTQ Journey into Nyx
END:VEVENT
BEGIN:VEVENT
DTSTAMP:20260422T111118Z
UID:dfc3c3f8-514f-43ae-b840-5391ce0cee02
DTSTART:20140104T000000
CLASS:PUBLIC
SUMMARY:Channel Fireball GP Trials
END:VEVENT
BEGIN:VEVENT
DTSTAMP:20260422T111118Z
UID:f37bcd6f-9253-4fbf-9f2b-ee1fa1ee4422
DTSTART:20140412T000000
CLASS:PUBLIC
SUMMARY:StarCityGames Open Series
END:VEVENT
BEGIN:VEVENT
DTSTAMP:20260422T111118Z
UID:2c5efc4a-ed9f-490b-a19c-834dc61169b6
DTSTART:20140413T000000
CLASS:PUBLIC
SUMMARY:StarCityGames Open Series
END:VEVENT
BEGIN:VEVENT
DTSTAMP:20260422T111118Z
UID:53309eb2-fa75-467b-a424-d9ba09f1d91b
DTSTART:20140802T000000
CLASS:PUBLIC
SUMMARY:StarCityGames Open Series
END:VEVENT
BEGIN:VEVENT
DTSTAMP:20260422T111118Z
UID:5e087030-9402-41fc-bb93-2745cc59d46b
DTSTART:20140803T000000
CLASS:PUBLIC
SUMMARY:StarCityGames Open Series
END:VEVENT
BEGIN:VEVENT
DTSTAMP:20260422T111118Z
UID:6d5a78aa-5719-4d2d-bf3f-5a6225f818a3
DTSTART:20140517T000000
CLASS:PUBLIC
SUMMARY:StarCityGames State Championships
END:VEVENT
BEGIN:VEVENT
DTSTAMP:20260422T111118Z
UID:b1c20bc9-4eec-450d-bac7-40d868c65d2c
DTSTART:20140419T000000
CLASS:PUBLIC
SUMMARY:StarCityGames Super Invitational Qualifier
END:VEVENT
BEGIN:VEVENT
DTSTAMP:20260422T111118Z
UID:be82f3fa-614d-4e11-bb10-22acca6d516b
DTSTART:20140510T000000
CLASS:PUBLIC
SUMMARY:StarCityGames Super Invitational Qualifier
END:VEVENT
BEGIN:VEVENT
DTSTAMP:20260422T111118Z
UID:0da377c8-a5fb-416e-a08d-35a1b95809b4
DTSTART:20140726T000000
CLASS:PUBLIC
SUMMARY:StarCityGames.com Invitational Qualifier
END:VEVENT
BEGIN:VEVENT
DTSTAMP:20260422T111118Z
UID:f12d6fb2-39a8-4606-89d4-2e0f4cbe3943
DTSTART:20140727T000000
CLASS:PUBLIC
SUMMARY:StarCityGames.com Super Invitational Qualifier 
END:VEVENT
BEGIN:VEVENT
DTSTAMP:20260422T111118Z
UID:c776175c-1695-4c3a-bb38-75fa58cf6b4c
DTSTART:20140809T000000
CLASS:PUBLIC
SUMMARY:StarCityGames.com Invitational Qualifier
END:VEVENT
BEGIN:VEVENT
DTSTAMP:20260422T111118Z
UID:259e4550-6ff8-43b8-a7bc-4e36f34fc8be
DTSTART:20140817T000000
CLASS:PUBLIC
SUMMARY:StarCityGames.com Super Invitational Qualifier
END:VEVENT
BEGIN:VEVENT
DTSTAMP:20260422T111118Z
UID:09ffc19a-de56-48b8-9d44-0c1d8cf92b4c
DTSTART:20140823T000000
CLASS:PUBLIC
SUMMARY:StarCityGames.com Invitational Qualifier
END:VEVENT
BEGIN:VEVENT
DTSTAMP:20260422T111118Z
UID:15078a8a-1d97-4309-b8f7-a4af59a1f9c3
DTSTART:20140927T000000
CLASS:PUBLIC
SUMMARY:TCGplayer MaxPoint Diamond Open $5K (Waco)
END:VEVENT
BEGIN:VEVENT
DTSTAMP:20260422T111118Z
UID:2f6f911c-de46-4be6-938c-3bd386c6e0c9
DTSTART:20140906T000000
CLASS:PUBLIC
SUMMARY:TCGPlayer Silver Maxpoint Event
END:VEVENT
BEGIN:VEVENT
DTSTAMP:20260422T111118Z
UID:5a3f622e-02fa-481d-96d3-eff74cc61ea4
DTSTART:20140914T000000
CLASS:PUBLIC
SUMMARY:StarCityGames Super IQ 
END:VEVENT
BEGIN:VEVENT
DTSTAMP:20260422T111118Z
UID:80d9292d-727e-48d7-be05-f0a9a4c4c203
DTSTART:20141004T000000
CLASS:PUBLIC
SUMMARY:StarCityGames Super IQ
END:VEVENT
BEGIN:VEVENT
DTSTAMP:20260422T111118Z
UID:5b5ae77d-712d-4f65-af47-6b701eb5fae5
DTSTART:20140927T000000
CLASS:PUBLIC
SUMMARY:StarCityGames IQ
END:VEVENT
BEGIN:VEVENT
DTSTAMP:20260422T111118Z
UID:291f7a22-2368-4e7a-9b80-6cd58e913917
DTSTART:20141011T000000
CLASS:PUBLIC
SUMMARY:StarCityGames.com Autumn State Championships
END:VEVENT
BEGIN:VEVENT
DTSTAMP:20260422T111118Z
UID:af0ca790-5b15-46b1-8cee-499cf1b4c521
DTSTART:20141025T000000
CLASS:PUBLIC
SUMMARY:StarCityGames.com Premier IQ
END:VEVENT
BEGIN:VEVENT
DTSTAMP:20260422T111118Z
UID:fe69715b-215d-4e31-a497-048bde42a408
DTSTART:20141019T000000
CLASS:PUBLIC
SUMMARY:StarCityGames.com IQ
END:VEVENT
BEGIN:VEVENT
DTSTAMP:20260422T111118Z
UID:6b4a1dae-da90-43c9-8465-bf2e486c6821
DTSTART:20141025T000000
CLASS:PUBLIC
SUMMARY:StarCityGames.com IQ
END:VEVENT
BEGIN:VEVENT
DTSTAMP:20260422T111118Z
UID:1f4645ab-6cba-4b58-85af-62b66d6908be
DTSTART:20141115T000000
CLASS:PUBLIC
SUMMARY:StarCityGames.com IQ
END:VEVENT
BEGIN:VEVENT
DTSTAMP:20260422T111118Z
UID:5e8f9c82-34df-4ea5-b425-832480f09d2e
DTSTART:20141116T000000
CLASS:PUBLIC
SUMMARY:StarCityGames.com Super IQ 
END:VEVENT
BEGIN:VEVENT
DTSTAMP:20260422T111118Z
UID:e6450774-765f-4e99-beed-8342ee194930
DTSTART:20141207T000000
CLASS:PUBLIC
SUMMARY:StarCityGames.com Super IQ
END:VEVENT
BEGIN:VEVENT
DTSTAMP:20260422T111118Z
UID:0211f8d2-0fac-4462-bd38-e054e570747a
DTSTART:20150214T000000
CLASS:PUBLIC
SUMMARY:StarCityGames Open (Houston)
END:VEVENT
BEGIN:VEVENT
DTSTAMP:20260422T111118Z
UID:fa0fc832-c592-409e-961a-3f943adb2c77
DTSTART:20150314T000000
CLASS:PUBLIC
SUMMARY:StarCityGames Open (DFW)
END:VEVENT
BEGIN:VEVENT
DTSTAMP:20260422T111118Z
UID:3e644c9e-bd03-4a41-b34b-e32ac87e2bdd
DTSTART:20141220T000000
CLASS:PUBLIC
SUMMARY:StarCityGames.com IQ
END:VEVENT
BEGIN:VEVENT
DTSTAMP:20260422T111118Z
UID:40122d00-aaad-4e35-acec-904f492f0e60
DTSTART:20150110T000000
CLASS:PUBLIC
SUMMARY:StarCityGames 1K Super IQ
END:VEVENT
BEGIN:VEVENT
DTSTAMP:20260422T111118Z
UID:1ff47a90-bb0c-403d-a47a-afd364b25d5f
DTSTART:20150124T000000
CLASS:PUBLIC
SUMMARY:StarCityGames IQ
END:VEVENT
BEGIN:VEVENT
DTSTAMP:20260422T111118Z
UID:abfd7e86-abd1-46f2-a102-b37723ee69fa
DTSTART:20150124T000000
CLASS:PUBLIC
SUMMARY:StarCityGames IQ
END:VEVENT
BEGIN:VEVENT
DTSTAMP:20260422T111118Z
UID:fa206961-ee5b-40cc-ab3f-9dee543cd41f
DTSTART:20150131T000000
CLASS:PUBLIC
SUMMARY:StarCityGames Open Trial
END:VEVENT
BEGIN:VEVENT
DTSTAMP:20260422T111118Z
UID:b6a9b9d8-f538-4775-9df6-d1f797ee0702
DTSTART:20150221T000000
CLASS:PUBLIC
SUMMARY:StarCityGames IQ
END:VEVENT
BEGIN:VEVENT
DTSTAMP:20260422T111118Z
UID:b1ac65ef-5039-4198-b27b-5d52a37d5ce3
DTSTART:20150222T000000
CLASS:PUBLIC
SUMMARY:StarCityGames 1K Super IQ
END:VEVENT
BEGIN:VEVENT
DTSTAMP:20260422T111118Z
UID:67bc6ec9-05ca-4842-8baf-ac46570d54c2
DTSTART:20150228T000000
CLASS:PUBLIC
SUMMARY:StarCityGames IQ
END:VEVENT
BEGIN:VEVENT
DTSTAMP:20260422T111118Z
UID:c8a743fc-47fc-42eb-a34b-38873632aaf1
DTSTART:20150704T000000
CLASS:PUBLIC
SUMMARY:SCG 1K Super IQ
END:VEVENT
BEGIN:VEVENT
DTSTAMP:20260422T111118Z
UID:68aac570-bc76-43c0-8276-f6c82a403719
DTSTART:20150705T000000
CLASS:PUBLIC
SUMMARY:SCG GPT
END:VEVENT
BEGIN:VEVENT
DTSTAMP:20260422T111118Z
UID:40f22151-22a9-4964-a8bd-3c4dc1b58021
DTSTART:20150718T000000
CLASS:PUBLIC
SUMMARY:SCG PPTQ
END:VEVENT
BEGIN:VEVENT
DTSTAMP:20260422T111118Z
UID:953de6bc-cf46-456e-90a5-de74dcb22f74
DTSTART:20150809T000000
CLASS:PUBLIC
SUMMARY:SCG IQ
END:VEVENT
BEGIN:VEVENT
DTSTAMP:20260422T111118Z
UID:1bc539c6-6012-4202-87f5-8d02369d71cb
DTSTART:20150829T000000
CLASS:PUBLIC
SUMMARY:SCG GPT
END:VEVENT
BEGIN:VEVENT
DTSTAMP:20260422T111118Z
UID:ffd8832a-cedc-42bb-9d2b-b1ff3282ee41
DTSTART:20150801T000000
CLASS:PUBLIC
SUMMARY:SCG Summer Regional Championships
END:VEVENT
BEGIN:VEVENT
DTSTAMP:20260422T111118Z
UID:7a5da969-acd1-4a3f-9fc5-6544d52d36d2
DTSTART:20150802T000000
CLASS:PUBLIC
SUMMARY:SCG 1K Super IQ
END:VEVENT
BEGIN:VEVENT
DTSTAMP:20260422T111118Z
UID:e462f59b-74f6-4835-ac52-bc75c97bae46
DTSTART:20150905T000000
CLASS:PUBLIC
SUMMARY:SCG 1K Super IQ
END:VEVENT
BEGIN:VEVENT
DTSTAMP:20260422T111118Z
UID:a5b5cc05-ef07-48fa-8292-27c0a851214d
DTSTART:20150719T000000
CLASS:PUBLIC
SUMMARY:SCQ IQ
END:VEVENT
BEGIN:VEVENT
DTSTAMP:20260422T111118Z
UID:ed7c7fb6-69f7-493c-bc89-51789af9b7e8
DTSTART:20150919T000000
CLASS:PUBLIC
SUMMARY:SCG GPT
END:VEVENT
BEGIN:VEVENT
DTSTAMP:20260422T111118Z
UID:181eeb5f-a6de-4708-8abf-8e4719fc49ed
DTSTART:20150830T000000
CLASS:PUBLIC
SUMMARY:SCG IQ
END:VEVENT
BEGIN:VEVENT
DTSTAMP:20260422T111118Z
UID:e93cbfd4-1628-4ee4-a1c5-54bd534ab9cb
DTSTART:20150906T000000
CLASS:PUBLIC
SUMMARY:SCQ IQ
END:VEVENT
BEGIN:VEVENT
DTSTAMP:20260422T111118Z
UID:82523a51-d9c4-4f96-bcd7-6627bb124729
DTSTART:20150920T000000
CLASS:PUBLIC
SUMMARY:SCQ IQ
END:VEVENT
END:VCALENDAR
