BEGIN:VCALENDAR
VERSION:2.0
PRODID:Magic the Gathering Professional Events
CALSCALE:GREGORIAN
METHOD:PUBLISH
BEGIN:VEVENT
DTSTAMP:20260421T032728Z
UID:018b1945-723f-4c52-9797-e23f29ff9a3e
DTSTART:20150208T000000
CLASS:PUBLIC
SUMMARY:Preliminary PTQ Vanсouver
END:VEVENT
END:VCALENDAR
