BEGIN:VCALENDAR
VERSION:2.0
PRODID:Magic the Gathering Professional Events
CALSCALE:GREGORIAN
METHOD:PUBLISH
BEGIN:VEVENT
DTSTAMP:20260420T070010Z
UID:8ec12e89-4f93-48c0-a164-31c3b7cc2415
DTSTART:20110213T000000
CLASS:PUBLIC
SUMMARY:Release Mirrodin Besieged
END:VEVENT
END:VCALENDAR
