BEGIN:VCALENDAR
VERSION:2.0
PRODID:Magic the Gathering Professional Events
CALSCALE:GREGORIAN
METHOD:PUBLISH
BEGIN:VEVENT
DTSTAMP:20260421T172958Z
UID:63e0b01b-a7f0-41b4-90d8-3a181ca61bc2
DTSTART:20190215T000000
CLASS:PUBLIC
SUMMARY:EDH Party
END:VEVENT
BEGIN:VEVENT
DTSTAMP:20260421T172958Z
UID:ed4562ce-306a-4672-8f66-80fe1138c71e
DTSTART:20190205T000000
CLASS:PUBLIC
SUMMARY:Może planszóweczka?
END:VEVENT
END:VCALENDAR
