BEGIN:VCALENDAR
VERSION:2.0
PRODID:Magic the Gathering Professional Events
CALSCALE:GREGORIAN
METHOD:PUBLISH
BEGIN:VEVENT
DTSTAMP:20260420T114920Z
UID:a6093d5b-fe29-4c36-81f5-cfa7ac62a6d2
DTSTART:20150711T000000
CLASS:PUBLIC
SUMMARY:Origins:  Pre-release
END:VEVENT
END:VCALENDAR
