BEGIN:VCALENDAR
VERSION:2.0
PRODID:Magic the Gathering Professional Events
CALSCALE:GREGORIAN
METHOD:PUBLISH
BEGIN:VEVENT
DTSTAMP:20260423T075209Z
UID:9fc58870-5251-44f1-80a2-6e0ba2c5f954
DTSTART:20120302T000000
CLASS:PUBLIC
SUMMARY:IndyCon Tourney
END:VEVENT
BEGIN:VEVENT
DTSTAMP:20260423T075209Z
UID:283eea95-df2a-4a74-bd16-a6d947ecec19
DTSTART:20120418T000000
CLASS:PUBLIC
SUMMARY:League Night #1
END:VEVENT
BEGIN:VEVENT
DTSTAMP:20260423T075209Z
UID:7e999adb-7bca-4653-a215-a48fb18a878e
DTSTART:20120525T000000
CLASS:PUBLIC
SUMMARY:League Night #2
END:VEVENT
END:VCALENDAR
