BEGIN:VCALENDAR
VERSION:2.0
PRODID:Magic the Gathering Professional Events
CALSCALE:GREGORIAN
METHOD:PUBLISH
BEGIN:VEVENT
DTSTAMP:20260419T155120Z
UID:1204fcd8-1cee-4b5e-a26a-e7eef9a5ecb0
DTSTART:20161014T000000
CLASS:PUBLIC
SUMMARY:FNM
END:VEVENT
BEGIN:VEVENT
DTSTAMP:20260419T155120Z
UID:b13bdcf0-5fb0-4360-b993-3a1492cbb08d
DTSTART:20161105T000000
CLASS:PUBLIC
SUMMARY:Bounty Commander
END:VEVENT
BEGIN:VEVENT
DTSTAMP:20260419T155120Z
UID:82d1387a-da09-4f90-8fdf-248fd72d1445
DTSTART:20200510T000000
CLASS:PUBLIC
SUMMARY:R.I.P. Arno et Yan
END:VEVENT
BEGIN:VEVENT
DTSTAMP:20260419T155120Z
UID:c8e07166-1a9f-4d65-841d-12774d45e315
DTSTART:20201031T000000
CLASS:PUBLIC
SUMMARY:Gender reveal
END:VEVENT
BEGIN:VEVENT
DTSTAMP:20260419T155120Z
UID:cacd0f46-48ef-42a0-8c1b-015fd912403b
DTSTART:20230402T000000
CLASS:PUBLIC
SUMMARY:Poisson 
END:VEVENT
END:VCALENDAR
