BEGIN:VCALENDAR
VERSION:2.0
PRODID:Magic the Gathering Professional Events
CALSCALE:GREGORIAN
METHOD:PUBLISH
BEGIN:VEVENT
DTSTAMP:20260420T044315Z
UID:4f95bef0-3773-416d-82ec-edbb0bcb0316
DTSTART:20120131T000000
CLASS:PUBLIC
SUMMARY:Friday\, Jan. 27 Louisville WHI Deck Swap Tournament
END:VEVENT
END:VCALENDAR
