BEGIN:VCALENDAR
VERSION:2.0
PRODID:Magic the Gathering Professional Events
CALSCALE:GREGORIAN
METHOD:PUBLISH
BEGIN:VEVENT
DTSTAMP:20260422T222157Z
UID:ad681957-cafa-420c-9b2b-7407797df074
DTSTART:20130118T000000
CLASS:PUBLIC
SUMMARY:Magic event
END:VEVENT
BEGIN:VEVENT
DTSTAMP:20260422T222157Z
UID:cc01604a-281c-4479-aacd-500171b425d8
DTSTART:20130201T000000
CLASS:PUBLIC
SUMMARY:Friday Night Magic
END:VEVENT
BEGIN:VEVENT
DTSTAMP:20260422T222157Z
UID:9581cf2a-8b94-45a5-92d5-b59fff4685fe
DTSTART:20130208T000000
CLASS:PUBLIC
SUMMARY:Friday Night Magic
END:VEVENT
END:VCALENDAR
