BEGIN:VCALENDAR
VERSION:2.0
PRODID:Magic the Gathering Professional Events
CALSCALE:GREGORIAN
METHOD:PUBLISH
BEGIN:VEVENT
DTSTAMP:20260420T063725Z
UID:68407510-1ac4-4ab7-90f8-5f4b24decbca
DTSTART:20170114T000000
CLASS:PUBLIC
SUMMARY:Cube Draft #1
END:VEVENT
END:VCALENDAR
