BEGIN:VCALENDAR
VERSION:2.0
PRODID:Magic the Gathering Professional Events
CALSCALE:GREGORIAN
METHOD:PUBLISH
BEGIN:VEVENT
DTSTAMP:20260422T173750Z
UID:5fa46e16-8ebf-4b9d-b24a-252daf770b24
DTSTART:20111218T000000
CLASS:PUBLIC
SUMMARY:X-MAS FUCKING WIZARD BATTLE!
END:VEVENT
END:VCALENDAR
