BEGIN:VCALENDAR
VERSION:2.0
PRODID:Magic the Gathering Professional Events
CALSCALE:GREGORIAN
METHOD:PUBLISH
BEGIN:VEVENT
DTSTAMP:20260425T012650Z
UID:7e1d062c-ff84-4727-a4b8-fef7a73caadd
DTSTART:20140823T000000
CLASS:PUBLIC
SUMMARY:EDH/Draft
END:VEVENT
BEGIN:VEVENT
DTSTAMP:20260425T012650Z
UID:1917dfd2-64f6-4b9f-9d87-d293e47d1385
DTSTART:20141122T000000
CLASS:PUBLIC
SUMMARY:EDH party
END:VEVENT
END:VCALENDAR
