BEGIN:VCALENDAR
VERSION:2.0
PRODID:Magic the Gathering Professional Events
CALSCALE:GREGORIAN
METHOD:PUBLISH
BEGIN:VEVENT
DTSTAMP:20260424T194120Z
UID:eb8facff-9087-41ae-9fc8-401425388f1e
DTSTART:20160403T000000
CLASS:PUBLIC
SUMMARY:Shadows over Innestrad PreRelease
END:VEVENT
END:VCALENDAR
