BEGIN:VCALENDAR
VERSION:2.0
PRODID:Magic the Gathering Professional Events
CALSCALE:GREGORIAN
METHOD:PUBLISH
BEGIN:VEVENT
DTSTAMP:20260419T115640Z
UID:fb199fa4-15fd-4c0a-b123-d31282f30a6b
DTSTART:20110115T000000
CLASS:PUBLIC
SUMMARY:Double Draft SOM
END:VEVENT
END:VCALENDAR
