BEGIN:VCALENDAR
VERSION:2.0
PRODID:Magic the Gathering Professional Events
CALSCALE:GREGORIAN
METHOD:PUBLISH
BEGIN:VEVENT
DTSTAMP:20260424T135812Z
UID:dd1a963c-13a2-4418-b8c5-293e4f64cdde
DTSTART:20120211T000000
CLASS:PUBLIC
SUMMARY:GPT Lille
END:VEVENT
END:VCALENDAR
