BEGIN:VCALENDAR
VERSION:2.0
PRODID:Magic the Gathering Professional Events
CALSCALE:GREGORIAN
METHOD:PUBLISH
BEGIN:VEVENT
DTSTAMP:20260424T213124Z
UID:7754898b-6f7c-4e12-a007-36c31cd6f8a6
DTSTART:20230922T000000
CLASS:PUBLIC
SUMMARY:MTG Draft
END:VEVENT
END:VCALENDAR
