BEGIN:VCALENDAR
VERSION:2.0
PRODID:Magic the Gathering Professional Events
CALSCALE:GREGORIAN
METHOD:PUBLISH
BEGIN:VEVENT
DTSTAMP:20260419T165315Z
UID:42759932-1614-4876-b4b1-ae973968095f
DTSTART:20100522T000000
CLASS:PUBLIC
SUMMARY:NQ 2010 Craiova
END:VEVENT
BEGIN:VEVENT
DTSTAMP:20260419T165315Z
UID:ce6ef92b-6fca-456e-8ca4-63e3e1765852
DTSTART:20100528T000000
CLASS:PUBLIC
SUMMARY:FNM 28 mai Craiova
END:VEVENT
BEGIN:VEVENT
DTSTAMP:20260419T165315Z
UID:d0294251-9c84-4a18-ac17-949e79283843
DTSTART:20100604T000000
CLASS:PUBLIC
SUMMARY:FNM 4 iun Cr
END:VEVENT
BEGIN:VEVENT
DTSTAMP:20260419T165315Z
UID:88b769fe-e694-4e9f-a06c-1a4f07cd8bc3
DTSTART:20100611T000000
CLASS:PUBLIC
SUMMARY:FNM 11 iun CR
END:VEVENT
BEGIN:VEVENT
DTSTAMP:20260419T165315Z
UID:bea66711-f832-4c27-a75f-35898ea1ef10
DTSTART:20100926T000000
CLASS:PUBLIC
SUMMARY:EDH Foiled Championship
END:VEVENT
BEGIN:VEVENT
DTSTAMP:20260419T165315Z
UID:bdf10b7a-c7d0-4a63-a989-7f9cf394f0c4
DTSTART:20101113T000000
CLASS:PUBLIC
SUMMARY:Craiova EDH Championship #2
END:VEVENT
BEGIN:VEVENT
DTSTAMP:20260419T165315Z
UID:c0a182f2-3c73-4f82-b489-d3bb46bc7154
DTSTART:20110115T000000
CLASS:PUBLIC
SUMMARY:Craiova EDH Championship #3
END:VEVENT
END:VCALENDAR
