BEGIN:VCALENDAR
VERSION:2.0
PRODID:Magic the Gathering Professional Events
CALSCALE:GREGORIAN
METHOD:PUBLISH
BEGIN:VEVENT
DTSTAMP:20260421T093008Z
UID:4e748e8b-35ae-4957-9877-7fb0b6f0b498
DTSTART:20120421T000000
CLASS:PUBLIC
SUMMARY:Celda&#39;s decks massacre
END:VEVENT
END:VCALENDAR
