BEGIN:VCALENDAR
VERSION:2.0
PRODID:Magic the Gathering Professional Events
CALSCALE:GREGORIAN
METHOD:PUBLISH
BEGIN:VEVENT
DTSTAMP:20260423T164659Z
UID:0c2f2a54-2732-4c19-ba1e-bc830704aaa7
DTSTART:20160923T000000
CLASS:PUBLIC
SUMMARY:BookStan
END:VEVENT
BEGIN:VEVENT
DTSTAMP:20260423T164659Z
UID:976fa42e-78cf-4c27-99c9-f47f7b449183
DTSTART:20160924T000000
CLASS:PUBLIC
SUMMARY:BookStan
END:VEVENT
BEGIN:VEVENT
DTSTAMP:20260423T164659Z
UID:dfe31ab6-0d1b-4adc-91cf-ef6e3fee2b83
DTSTART:20160924T000000
CLASS:PUBLIC
SUMMARY:BookStan
END:VEVENT
BEGIN:VEVENT
DTSTAMP:20260423T164659Z
UID:4eabbf66-048e-4457-a7f3-1f4631e26ccf
DTSTART:20160925T000000
CLASS:PUBLIC
SUMMARY:BookStan
END:VEVENT
BEGIN:VEVENT
DTSTAMP:20260423T164659Z
UID:7063d58c-8212-42a6-b1c2-17c05151ca31
DTSTART:20160930T000000
CLASS:PUBLIC
SUMMARY:BookStan
END:VEVENT
BEGIN:VEVENT
DTSTAMP:20260423T164659Z
UID:7bb56c73-c359-4634-a952-ff8ad8f80eac
DTSTART:20161007T000000
CLASS:PUBLIC
SUMMARY:BookStan
END:VEVENT
BEGIN:VEVENT
DTSTAMP:20260423T164659Z
UID:05be980c-b638-463d-a3f9-5123eff6df3c
DTSTART:20161015T000000
CLASS:PUBLIC
SUMMARY:Cyber Lord Games
END:VEVENT
BEGIN:VEVENT
DTSTAMP:20260423T164659Z
UID:0856ed8b-0124-423b-8865-b2c0d3f34a5a
DTSTART:20161014T000000
CLASS:PUBLIC
SUMMARY:BookStan
END:VEVENT
BEGIN:VEVENT
DTSTAMP:20260423T164659Z
UID:6a58fc67-0b5c-43e6-83ca-b1014fb40672
DTSTART:20161021T000000
CLASS:PUBLIC
SUMMARY:BookStan
END:VEVENT
BEGIN:VEVENT
DTSTAMP:20260423T164659Z
UID:79bb4e4f-d2ac-44a4-90c8-6624113c816d
DTSTART:20161022T000000
CLASS:PUBLIC
SUMMARY:BookStan
END:VEVENT
BEGIN:VEVENT
DTSTAMP:20260423T164659Z
UID:881919fe-50fe-4d67-876c-288a00a55d81
DTSTART:20161022T000000
CLASS:PUBLIC
SUMMARY:Cyber Lord Games
END:VEVENT
BEGIN:VEVENT
DTSTAMP:20260423T164659Z
UID:cc03950a-f910-433c-9f61-5382c095a208
DTSTART:20161023T000000
CLASS:PUBLIC
SUMMARY:BookStan
END:VEVENT
BEGIN:VEVENT
DTSTAMP:20260423T164659Z
UID:dee9da16-861e-4b23-a29e-a7020d685446
DTSTART:20161023T000000
CLASS:PUBLIC
SUMMARY:Cyber Lord Games
END:VEVENT
BEGIN:VEVENT
DTSTAMP:20260423T164659Z
UID:1e5e0a2c-a9f0-470f-a10d-b0dc4e1b60d3
DTSTART:20161029T000000
CLASS:PUBLIC
SUMMARY:BookStan Grand Prix Trial GPT
END:VEVENT
BEGIN:VEVENT
DTSTAMP:20260423T164659Z
UID:4344f2e5-9aba-4dd2-adb5-903d44aae410
DTSTART:20161028T000000
CLASS:PUBLIC
SUMMARY:BookStan
END:VEVENT
BEGIN:VEVENT
DTSTAMP:20260423T164659Z
UID:ff32f546-00b3-4db6-bc96-0c5358fa15e4
DTSTART:20161104T000000
CLASS:PUBLIC
SUMMARY:BookStan FNM
END:VEVENT
BEGIN:VEVENT
DTSTAMP:20260423T164659Z
UID:1c7acb19-e399-46e6-80ab-4d623ea1bc08
DTSTART:20161111T000000
CLASS:PUBLIC
SUMMARY:BookStan FNM
END:VEVENT
BEGIN:VEVENT
DTSTAMP:20260423T164659Z
UID:b19fbe8d-b415-4bc3-adc1-ed72f4679e8d
DTSTART:20161118T000000
CLASS:PUBLIC
SUMMARY:BookStan FNM
END:VEVENT
BEGIN:VEVENT
DTSTAMP:20260423T164659Z
UID:645398de-d0c4-4c16-8f57-06be5f8ce651
DTSTART:20161202T000000
CLASS:PUBLIC
SUMMARY:BookStan FNM
END:VEVENT
BEGIN:VEVENT
DTSTAMP:20260423T164659Z
UID:b2ff4a91-7a76-4813-bad1-88dda1d5aff3
DTSTART:20161203T000000
CLASS:PUBLIC
SUMMARY:BookStan Standard Challenge
END:VEVENT
BEGIN:VEVENT
DTSTAMP:20260423T164659Z
UID:9a0d8e8c-e4bf-4dfc-a2af-6c30a2d8ff9e
DTSTART:20161203T000000
CLASS:PUBLIC
SUMMARY:Cyber Lord Games Standard Challenge
END:VEVENT
BEGIN:VEVENT
DTSTAMP:20260423T164659Z
UID:1885d4d4-ab46-4b8c-81e8-d26a97cc50b5
DTSTART:20161202T000000
CLASS:PUBLIC
SUMMARY:Cyber Lord Games FNM
END:VEVENT
BEGIN:VEVENT
DTSTAMP:20260423T164659Z
UID:ac76a5f1-d542-41d3-9263-939433d49676
DTSTART:20161216T000000
CLASS:PUBLIC
SUMMARY:BookStan FNM
END:VEVENT
BEGIN:VEVENT
DTSTAMP:20260423T164659Z
UID:e9f1289c-8dde-45ba-81fd-806a7d648c5b
DTSTART:20161217T000000
CLASS:PUBLIC
SUMMARY:BookStan Standard Challenge
END:VEVENT
BEGIN:VEVENT
DTSTAMP:20260423T164659Z
UID:e63ae83c-a318-444e-9a97-97a485b8a169
DTSTART:20161217T000000
CLASS:PUBLIC
SUMMARY:Cyber Lord Games Standard Challenge
END:VEVENT
BEGIN:VEVENT
DTSTAMP:20260423T164659Z
UID:4a7a13e1-7fa6-4513-bb0e-b6f92a6d2744
DTSTART:20170113T000000
CLASS:PUBLIC
SUMMARY:BookStan FNM
END:VEVENT
BEGIN:VEVENT
DTSTAMP:20260423T164659Z
UID:ca048f93-1915-4981-9617-31817bed0bb6
DTSTART:20170114T000000
CLASS:PUBLIC
SUMMARY:BookStan Pre-Release
END:VEVENT
BEGIN:VEVENT
DTSTAMP:20260423T164659Z
UID:fb44b1a9-14e2-43cd-b155-2ace960a3b19
DTSTART:20170114T000000
CLASS:PUBLIC
SUMMARY:BookStan 2HG Pre-Release
END:VEVENT
BEGIN:VEVENT
DTSTAMP:20260423T164659Z
UID:99abe995-b49c-4182-9096-cd7e0b6be203
DTSTART:20170115T000000
CLASS:PUBLIC
SUMMARY:BookStan Pre-Release
END:VEVENT
BEGIN:VEVENT
DTSTAMP:20260423T164659Z
UID:23832218-b964-43e2-9292-3c7b8ad53efc
DTSTART:20170114T000000
CLASS:PUBLIC
SUMMARY:Cyber Lord Games Pre-Release
END:VEVENT
BEGIN:VEVENT
DTSTAMP:20260423T164659Z
UID:af73cd93-ce08-49fe-a649-235110979a6c
DTSTART:20170114T000000
CLASS:PUBLIC
SUMMARY:Cyber Lord Games Pre-Release
END:VEVENT
BEGIN:VEVENT
DTSTAMP:20260423T164659Z
UID:cb9956c9-f4c4-4a2a-bf7e-cf558b1af5a0
DTSTART:20170115T000000
CLASS:PUBLIC
SUMMARY:Cyber Lord Games Pre-Release
END:VEVENT
BEGIN:VEVENT
DTSTAMP:20260423T164659Z
UID:4f0625ea-0285-43eb-ae60-dbef951f3021
DTSTART:20170324T000000
CLASS:PUBLIC
SUMMARY:Bookstan FNM
END:VEVENT
BEGIN:VEVENT
DTSTAMP:20260423T164659Z
UID:911697d0-800b-47e1-af3b-3acd014cbe9b
DTSTART:20170331T000000
CLASS:PUBLIC
SUMMARY:BookStan FNM
END:VEVENT
BEGIN:VEVENT
DTSTAMP:20260423T164659Z
UID:918c09d4-de06-4394-b115-8dc70a983a85
DTSTART:20171208T000000
CLASS:PUBLIC
SUMMARY:BOOKSTAN
END:VEVENT
BEGIN:VEVENT
DTSTAMP:20260423T164659Z
UID:6df3e35d-b789-44d4-9be3-89c784bcb357
DTSTART:20171209T000000
CLASS:PUBLIC
SUMMARY:BOOKSTAN
END:VEVENT
BEGIN:VEVENT
DTSTAMP:20260423T164659Z
UID:cf0e960e-1b9e-4fd5-9df8-5c0a8747cf14
DTSTART:20180127T000000
CLASS:PUBLIC
SUMMARY:Houston GRAN PRIX
END:VEVENT
BEGIN:VEVENT
DTSTAMP:20260423T164659Z
UID:c6c6adab-21ec-490a-9c67-0a236e02f1d1
DTSTART:20180706T000000
CLASS:PUBLIC
SUMMARY:BookStan FNM
END:VEVENT
BEGIN:VEVENT
DTSTAMP:20260423T164659Z
UID:d5ec9e9c-f2e3-4ebc-b527-835e982538f7
DTSTART:20180707T000000
CLASS:PUBLIC
SUMMARY:BookStan Pre-release 
END:VEVENT
BEGIN:VEVENT
DTSTAMP:20260423T164659Z
UID:1c860bcb-a669-4aad-9e4f-e6e225af82db
DTSTART:20180708T000000
CLASS:PUBLIC
SUMMARY:BookStan Pre-release 
END:VEVENT
BEGIN:VEVENT
DTSTAMP:20260423T164659Z
UID:f9ee9b6d-cc2f-43c6-aec9-ea90bb2fed19
DTSTART:20180707T000000
CLASS:PUBLIC
SUMMARY:BookStan Pre-release 
END:VEVENT
BEGIN:VEVENT
DTSTAMP:20260423T164659Z
UID:2420d3ca-290c-4488-9222-fd96397c48b7
DTSTART:20180713T000000
CLASS:PUBLIC
SUMMARY:BookStan FNM
END:VEVENT
END:VCALENDAR
