BEGIN:VCALENDAR
VERSION:2.0
PRODID:Magic the Gathering Professional Events
CALSCALE:GREGORIAN
METHOD:PUBLISH
BEGIN:VEVENT
DTSTAMP:20260423T124139Z
UID:60dfb4e8-4c8c-4d42-b550-51e9203ef96c
DTSTART:20160412T000000
CLASS:PUBLIC
SUMMARY:BEACH PARTY
END:VEVENT
BEGIN:VEVENT
DTSTAMP:20260423T124139Z
UID:11a1790d-281e-47dc-bc05-1db0a6c17792
DTSTART:20160527T000000
CLASS:PUBLIC
SUMMARY:Ceremonial Last MTG Game
END:VEVENT
END:VCALENDAR
