BEGIN:VCALENDAR
VERSION:2.0
PRODID:Magic the Gathering Professional Events
CALSCALE:GREGORIAN
METHOD:PUBLISH
BEGIN:VEVENT
DTSTAMP:20260420T032826Z
UID:4078e452-6ef0-440e-9bb9-c766927280e5
DTSTART:20131014T000000
CLASS:PUBLIC
SUMMARY:Theros display draft
END:VEVENT
END:VCALENDAR
