BEGIN:VCALENDAR
VERSION:2.0
PRODID:Magic the Gathering Professional Events
CALSCALE:GREGORIAN
METHOD:PUBLISH
BEGIN:VEVENT
DTSTAMP:20260421T205314Z
UID:29d4b86f-adcd-48e4-8b3d-cd98bdeb226b
DTSTART:20140516T000000
CLASS:PUBLIC
SUMMARY:FNM Sealed in Odessa
END:VEVENT
BEGIN:VEVENT
DTSTAMP:20260421T205314Z
UID:a226461a-3fec-4fc7-bc07-40dde4f69b99
DTSTART:20140523T000000
CLASS:PUBLIC
SUMMARY:23 мая. FNM драфт в Одессе
END:VEVENT
BEGIN:VEVENT
DTSTAMP:20260421T205314Z
UID:945444c3-2973-4c0d-82e4-9df232ffa42f
DTSTART:20140524T000000
CLASS:PUBLIC
SUMMARY:24 мая. Journey into Nyx Game Day
END:VEVENT
BEGIN:VEVENT
DTSTAMP:20260421T205314Z
UID:ccdfe347-90b2-47cb-b767-ae4641af3562
DTSTART:20140525T000000
CLASS:PUBLIC
SUMMARY:25 мая. Journey into Nyx Game Day
END:VEVENT
BEGIN:VEVENT
DTSTAMP:20260421T205314Z
UID:1df10348-759a-415c-ad34-752c5a1da28e
DTSTART:20140530T000000
CLASS:PUBLIC
SUMMARY:30 мая. FNM Modern в Одессе
END:VEVENT
BEGIN:VEVENT
DTSTAMP:20260421T205314Z
UID:b3fb591c-e99f-4959-8897-6973a3844b1a
DTSTART:20140606T000000
CLASS:PUBLIC
SUMMARY:6 июня. FNM Conspiracy Draft в Одессе
END:VEVENT
BEGIN:VEVENT
DTSTAMP:20260421T205314Z
UID:8c819cd5-d88c-44ae-aeca-9ae436443838
DTSTART:20140613T000000
CLASS:PUBLIC
SUMMARY:13 июня. FNM Conspiracy Draft в Одессе
END:VEVENT
BEGIN:VEVENT
DTSTAMP:20260421T205314Z
UID:39ff0574-48fb-40c3-a0b5-568d94ad3668
DTSTART:20140620T000000
CLASS:PUBLIC
SUMMARY:20 июня. FNM Conspiracy Draft в Одессе.
END:VEVENT
BEGIN:VEVENT
DTSTAMP:20260421T205314Z
UID:b3312dd4-6a85-4691-971d-be682ab3c66c
DTSTART:20140704T000000
CLASS:PUBLIC
SUMMARY:FNM Draft
END:VEVENT
BEGIN:VEVENT
DTSTAMP:20260421T205314Z
UID:656d36a7-5c3f-4c7a-94ca-0ffe92c2249a
DTSTART:20140711T000000
CLASS:PUBLIC
SUMMARY:FNM Conspiracy Sealed
END:VEVENT
BEGIN:VEVENT
DTSTAMP:20260421T205314Z
UID:ed757d38-86d4-4f22-a145-4552c4fad272
DTSTART:20140712T000000
CLASS:PUBLIC
SUMMARY:Magic 2015: Пререлизный турнир
END:VEVENT
BEGIN:VEVENT
DTSTAMP:20260421T205314Z
UID:fc44e000-cfc7-4d42-8ca1-2de4f4819a42
DTSTART:20140712T000000
CLASS:PUBLIC
SUMMARY:Magic 2015: Пререлизный турнир
END:VEVENT
BEGIN:VEVENT
DTSTAMP:20260421T205314Z
UID:580ebbce-6e67-4541-a900-47831f33c42e
DTSTART:20140713T000000
CLASS:PUBLIC
SUMMARY:Magic 2015: Пререлизный турнир
END:VEVENT
BEGIN:VEVENT
DTSTAMP:20260421T205314Z
UID:1cdf887c-a43f-49a9-9cc5-e29073dc02af
DTSTART:20140713T000000
CLASS:PUBLIC
SUMMARY:Magic 2015: Пререлизный турнир
END:VEVENT
BEGIN:VEVENT
DTSTAMP:20260421T205314Z
UID:6bcc08f7-09cd-449d-b8be-c7b14f57eaab
DTSTART:20140718T000000
CLASS:PUBLIC
SUMMARY:FNM Sealed
END:VEVENT
BEGIN:VEVENT
DTSTAMP:20260421T205314Z
UID:ea6a6ad8-10cd-406d-afe9-b3370978612c
DTSTART:20140725T000000
CLASS:PUBLIC
SUMMARY:FNM Modern
END:VEVENT
BEGIN:VEVENT
DTSTAMP:20260421T205314Z
UID:46f51e2d-11ad-4862-a4d4-b16b446aae58
DTSTART:20140726T000000
CLASS:PUBLIC
SUMMARY:Standart
END:VEVENT
BEGIN:VEVENT
DTSTAMP:20260421T205314Z
UID:127605a3-c51b-47a2-a38c-686ce8211570
DTSTART:20140831T000000
CLASS:PUBLIC
SUMMARY:World Magic Cup Qualifier
END:VEVENT
BEGIN:VEVENT
DTSTAMP:20260421T205314Z
UID:c25771c9-64d3-4272-86c7-6c4e1356162c
DTSTART:20140926T000000
CLASS:PUBLIC
SUMMARY:FNM Sealed
END:VEVENT
BEGIN:VEVENT
DTSTAMP:20260421T205314Z
UID:efa05096-6213-4604-ac57-dd7ff1358e06
DTSTART:20141008T000000
CLASS:PUBLIC
SUMMARY: Starpizza Open Series: Odessa
END:VEVENT
BEGIN:VEVENT
DTSTAMP:20260421T205314Z
UID:ad32629a-4931-4177-8463-8ba414096480
DTSTART:20141010T000000
CLASS:PUBLIC
SUMMARY:Draft FNM
END:VEVENT
BEGIN:VEVENT
DTSTAMP:20260421T205314Z
UID:1d2d7fa6-f0ca-40a1-8058-ad2d89600926
DTSTART:20141015T000000
CLASS:PUBLIC
SUMMARY: Starpizza Open Series: Odessa
END:VEVENT
BEGIN:VEVENT
DTSTAMP:20260421T205314Z
UID:4e1e6348-5311-4e88-a4f7-f875aa2d8475
DTSTART:20141022T000000
CLASS:PUBLIC
SUMMARY:Corvin Open Series
END:VEVENT
BEGIN:VEVENT
DTSTAMP:20260421T205314Z
UID:4f0ae4a3-b16e-4765-a080-882666bdae6a
DTSTART:20141029T000000
CLASS:PUBLIC
SUMMARY:Corvin Open Series
END:VEVENT
BEGIN:VEVENT
DTSTAMP:20260421T205314Z
UID:238148a4-8c48-4ab3-8ec4-37bce6608549
DTSTART:20141105T000000
CLASS:PUBLIC
SUMMARY:Corvin Open Series
END:VEVENT
BEGIN:VEVENT
DTSTAMP:20260421T205314Z
UID:c2c74466-c449-4d11-aba3-d201a048563f
DTSTART:20141112T000000
CLASS:PUBLIC
SUMMARY:Corvin Open Series
END:VEVENT
BEGIN:VEVENT
DTSTAMP:20260421T205314Z
UID:c9245896-f600-4f7d-b484-07a468b4adc9
DTSTART:20150201T000000
CLASS:PUBLIC
SUMMARY:Preliminary PTQ
END:VEVENT
BEGIN:VEVENT
DTSTAMP:20260421T205314Z
UID:9fa5e61a-b986-4201-8978-ce8b13aac42d
DTSTART:20150405T000000
CLASS:PUBLIC
SUMMARY:Preliminary PTQ Milwaukee
END:VEVENT
BEGIN:VEVENT
DTSTAMP:20260421T205314Z
UID:ed783896-2ad9-41c8-9e6b-aad5c066810f
DTSTART:20150411T000000
CLASS:PUBLIC
SUMMARY:Constructed Challenge
END:VEVENT
END:VCALENDAR
