BEGIN:VCALENDAR
VERSION:2.0
PRODID:Magic the Gathering Professional Events
CALSCALE:GREGORIAN
METHOD:PUBLISH
BEGIN:VEVENT
DTSTAMP:20260420T060217Z
UID:9f5f22e2-8b32-4442-be8e-84bf4fbbb87b
DTSTART:20120721T000000
CLASS:PUBLIC
SUMMARY:Red Hand Fest 2012
END:VEVENT
END:VCALENDAR
