BEGIN:VCALENDAR
VERSION:2.0
PRODID:Magic the Gathering Professional Events
CALSCALE:GREGORIAN
METHOD:PUBLISH
BEGIN:VEVENT
DTSTAMP:20260420T115222Z
UID:b3d36559-e0b3-406f-adb2-cc119d98b326
DTSTART:20220829T000000
CLASS:PUBLIC
SUMMARY:MtG Draft
END:VEVENT
BEGIN:VEVENT
DTSTAMP:20260420T115222Z
UID:44733f52-e1b2-4bd8-927f-f17f5b6780d9
DTSTART:20220830T000000
CLASS:PUBLIC
SUMMARY:MtG Commander FREE
END:VEVENT
BEGIN:VEVENT
DTSTAMP:20260420T115222Z
UID:baa66c62-0480-4fdf-a768-f1c60979d7ff
DTSTART:20220830T000000
CLASS:PUBLIC
SUMMARY:MtG Standard
END:VEVENT
BEGIN:VEVENT
DTSTAMP:20260420T115222Z
UID:7fecc7c9-c857-42c1-842a-297dc6e67335
DTSTART:20220901T000000
CLASS:PUBLIC
SUMMARY:MtG Pioneer
END:VEVENT
BEGIN:VEVENT
DTSTAMP:20260420T115222Z
UID:1cb63205-85f0-4d7d-ae07-dde27da16b84
DTSTART:20220902T000000
CLASS:PUBLIC
SUMMARY:MtG Commander FREE
END:VEVENT
BEGIN:VEVENT
DTSTAMP:20260420T115222Z
UID:618b4b21-80b8-4d98-b20b-6c9620078657
DTSTART:20220902T000000
CLASS:PUBLIC
SUMMARY:MtG Draft
END:VEVENT
BEGIN:VEVENT
DTSTAMP:20260420T115222Z
UID:5dc19f5a-ff5d-4ef5-8e42-6ec8a0173dda
DTSTART:20220903T000000
CLASS:PUBLIC
SUMMARY:MtG Modern - $5
END:VEVENT
BEGIN:VEVENT
DTSTAMP:20260420T115222Z
UID:685473ca-5973-4b8e-8b35-20ad348762f6
DTSTART:20220903T000000
CLASS:PUBLIC
SUMMARY:MtG Draft - $17
END:VEVENT
BEGIN:VEVENT
DTSTAMP:20260420T115222Z
UID:f9f5b639-4654-4116-9b0c-2ec788cc189a
DTSTART:20220904T000000
CLASS:PUBLIC
SUMMARY:MtG Commander - FREE
END:VEVENT
END:VCALENDAR
