BEGIN:VCALENDAR
VERSION:2.0
PRODID:Magic the Gathering Professional Events
CALSCALE:GREGORIAN
METHOD:PUBLISH
BEGIN:VEVENT
DTSTAMP:20260422T165207Z
UID:ac21e78a-b9ba-4757-bc83-6b80e276266b
DTSTART:20190530T000000
CLASS:PUBLIC
SUMMARY:Weekly EDH - 5/30/19
END:VEVENT
END:VCALENDAR
