BEGIN:VCALENDAR
VERSION:2.0
PRODID:Magic the Gathering Professional Events
CALSCALE:GREGORIAN
METHOD:PUBLISH
BEGIN:VEVENT
DTSTAMP:20260420T011009Z
UID:66e9e521-a211-4b7a-8d98-35195ef33e6c
DTSTART:20140830T000000
CLASS:PUBLIC
SUMMARY:Toronto SCGIQ
END:VEVENT
BEGIN:VEVENT
DTSTAMP:20260420T011009Z
UID:eb8bd802-2bd4-4eba-85ee-ba32450e444e
DTSTART:20140914T000000
CLASS:PUBLIC
SUMMARY:Toronto GPT
END:VEVENT
BEGIN:VEVENT
DTSTAMP:20260420T011009Z
UID:d22bad6c-aa5f-496f-8ebd-7e99101fa48c
DTSTART:20140927T000000
CLASS:PUBLIC
SUMMARY:Toronto MDSS
END:VEVENT
END:VCALENDAR
