BEGIN:VCALENDAR
VERSION:2.0
PRODID:Magic the Gathering Professional Events
CALSCALE:GREGORIAN
METHOD:PUBLISH
BEGIN:VEVENT
DTSTAMP:20260423T094238Z
UID:28919cba-8fbf-4444-b17e-06599de34628
DTSTART:20121006T000000
CLASS:PUBLIC
SUMMARY:Return to Ravnica Sealed Tournament
END:VEVENT
BEGIN:VEVENT
DTSTAMP:20260423T094238Z
UID:21614c2b-7f5c-477c-8626-eabcacfb67f9
DTSTART:20121102T000000
CLASS:PUBLIC
SUMMARY:Magic League Night
END:VEVENT
BEGIN:VEVENT
DTSTAMP:20260423T094238Z
UID:d8ecde0b-cc9b-4bc7-9ce4-caa1aca95c62
DTSTART:20121130T000000
CLASS:PUBLIC
SUMMARY:Magic League Night
END:VEVENT
END:VCALENDAR
