BEGIN:VCALENDAR
VERSION:2.0
PRODID:Magic the Gathering Professional Events
CALSCALE:GREGORIAN
METHOD:PUBLISH
BEGIN:VEVENT
DTSTAMP:20260420T064006Z
UID:c303f05b-29f7-4ca2-8b48-415e17935647
DTSTART:20100717T000000
CLASS:PUBLIC
SUMMARY:[Roma] Partite Dimostrative di W:I
END:VEVENT
BEGIN:VEVENT
DTSTAMP:20260420T064006Z
UID:dbd9d810-c251-455b-aa17-bdede19e1f13
DTSTART:20100723T000000
CLASS:PUBLIC
SUMMARY:[Roma] Partite Dimostrative di W:I
END:VEVENT
BEGIN:VEVENT
DTSTAMP:20260420T064006Z
UID:a17ef009-677f-4e15-ba4b-dc9f0cba02d5
DTSTART:20100724T000000
CLASS:PUBLIC
SUMMARY:[MAJOR] - Sabato 24/7 GA Bologna
END:VEVENT
BEGIN:VEVENT
DTSTAMP:20260420T064006Z
UID:71ddd4c2-2652-47e7-8c71-e05d0d6f55ea
DTSTART:20100731T000000
CLASS:PUBLIC
SUMMARY:[MINOR] 31/7 Pietra Ligure
END:VEVENT
BEGIN:VEVENT
DTSTAMP:20260420T064006Z
UID:2360dcbe-7be7-4d69-bdd3-b4d99e6157b4
DTSTART:20100730T000000
CLASS:PUBLIC
SUMMARY:[MAJOR] Jesi 30/07\, Torneo chiusura stagione
END:VEVENT
BEGIN:VEVENT
DTSTAMP:20260420T064006Z
UID:fb94bcd4-9747-48d8-b071-640c038591b6
DTSTART:20100724T000000
CLASS:PUBLIC
SUMMARY:[Roma] Partite Dimostrative di W:I
END:VEVENT
BEGIN:VEVENT
DTSTAMP:20260420T064006Z
UID:0b1fff94-469d-4f52-9c37-eaf090510f88
DTSTART:20100722T000000
CLASS:PUBLIC
SUMMARY:[Roma] Partite Dimostrative di W:I
END:VEVENT
BEGIN:VEVENT
DTSTAMP:20260420T064006Z
UID:acab45c8-4676-4d0d-8d42-5c4e324b6e98
DTSTART:20101016T000000
CLASS:PUBLIC
SUMMARY:[Roma] Torneo Sanzionato
END:VEVENT
END:VCALENDAR
