BEGIN:VCALENDAR
VERSION:2.0
PRODID:Magic the Gathering Professional Events
CALSCALE:GREGORIAN
METHOD:PUBLISH
BEGIN:VEVENT
DTSTAMP:20260424T105258Z
UID:e4a1f609-878e-45ce-9282-a3d2c5f4d1a5
DTSTART:20110903T000000
CLASS:PUBLIC
SUMMARY:DM Qualifier Köln
END:VEVENT
BEGIN:VEVENT
DTSTAMP:20260424T105258Z
UID:00add2be-8051-434e-b6f6-7ea1733aa524
DTSTART:20110911T000000
CLASS:PUBLIC
SUMMARY:DM Qualifier Düsseldorf
END:VEVENT
BEGIN:VEVENT
DTSTAMP:20260424T105258Z
UID:c3926bd4-0511-410e-bbfa-03929ca82fbf
DTSTART:20110915T000000
CLASS:PUBLIC
SUMMARY:Deck Test für DM
END:VEVENT
BEGIN:VEVENT
DTSTAMP:20260424T105258Z
UID:ee0eff50-f391-4f83-9863-5ee825c80128
DTSTART:20111119T000000
CLASS:PUBLIC
SUMMARY:WHI LCG Tourney (European Championship)
END:VEVENT
BEGIN:VEVENT
DTSTAMP:20260424T105258Z
UID:2526f49f-59c3-48d2-844e-61e540cf48f0
DTSTART:20110922T000000
CLASS:PUBLIC
SUMMARY:HIVE
END:VEVENT
BEGIN:VEVENT
DTSTAMP:20260424T105258Z
UID:f0375695-d606-4a2c-a096-06febac81a9a
DTSTART:20110926T000000
CLASS:PUBLIC
SUMMARY:Magestore Düsseldorf
END:VEVENT
BEGIN:VEVENT
DTSTAMP:20260424T105258Z
UID:35928017-0542-47f6-ac10-5cef12653690
DTSTART:20110929T000000
CLASS:PUBLIC
SUMMARY:Hiveworld
END:VEVENT
BEGIN:VEVENT
DTSTAMP:20260424T105258Z
UID:6fd45a02-f64d-4f50-9d63-367162318d05
DTSTART:20111003T000000
CLASS:PUBLIC
SUMMARY:Düsseldorf Feiertagszocken
END:VEVENT
BEGIN:VEVENT
DTSTAMP:20260424T105258Z
UID:f3b28f3a-1a27-4c61-9c3a-9321dac44827
DTSTART:20111023T000000
CLASS:PUBLIC
SUMMARY:DM in ESSEN
END:VEVENT
END:VCALENDAR
