BEGIN:VCALENDAR
VERSION:2.0
PRODID:Magic the Gathering Professional Events
CALSCALE:GREGORIAN
METHOD:PUBLISH
BEGIN:VEVENT
DTSTAMP:20260420T063927Z
UID:79b8fa29-8b04-4add-a0cc-171944f89217
DTSTART:20100919T000000
CLASS:PUBLIC
SUMMARY:[Katowice] [Galakta] Turniej w Smoku
END:VEVENT
BEGIN:VEVENT
DTSTAMP:20260420T063927Z
UID:efbd7a0b-19ad-41f8-ad15-45a522e280cf
DTSTART:20100918T000000
CLASS:PUBLIC
SUMMARY:[Gdańsk] [Galakta] Turniej w Rebelu
END:VEVENT
BEGIN:VEVENT
DTSTAMP:20260420T063927Z
UID:a1488cc7-d2c7-4552-a376-a3a542bfebda
DTSTART:20101002T000000
CLASS:PUBLIC
SUMMARY:[Pszczyna] Mistrzostwa Polski 2010
END:VEVENT
BEGIN:VEVENT
DTSTAMP:20260420T063927Z
UID:e12f9f8a-3eef-4b22-8b53-7fe368f30d7d
DTSTART:20100926T000000
CLASS:PUBLIC
SUMMARY:[Szczecin] [Galakta] Turniej w sklepie Fenix
END:VEVENT
BEGIN:VEVENT
DTSTAMP:20260420T063927Z
UID:6d8a301f-989b-4cdc-8407-231d3fd726e7
DTSTART:20100921T000000
CLASS:PUBLIC
SUMMARY:[Wrocław] Turniej z Cyklu Chaosu
END:VEVENT
BEGIN:VEVENT
DTSTAMP:20260420T063927Z
UID:5be83af0-3936-406f-a640-7592537aa7f3
DTSTART:20100925T000000
CLASS:PUBLIC
SUMMARY:[Pszczyna] Ostatni turniej przed MP
END:VEVENT
BEGIN:VEVENT
DTSTAMP:20260420T063927Z
UID:7fab19ab-8fd6-41d5-addf-f0ce6dacc675
DTSTART:20101016T000000
CLASS:PUBLIC
SUMMARY:[Katowice] Turniej w Smoku SCC
END:VEVENT
BEGIN:VEVENT
DTSTAMP:20260420T063927Z
UID:fac53660-1d3f-445e-962f-eb4efc9b92b4
DTSTART:20101031T000000
CLASS:PUBLIC
SUMMARY:[Katowice] Turniej w Smoku SCC
END:VEVENT
BEGIN:VEVENT
DTSTAMP:20260420T063927Z
UID:db6fc927-7bc5-4556-8d9f-539c9330fbd6
DTSTART:20101023T000000
CLASS:PUBLIC
SUMMARY:[Pszczyna] Turniej Red Scorpion
END:VEVENT
BEGIN:VEVENT
DTSTAMP:20260420T063927Z
UID:ebce2cfa-4897-4d60-b96c-d2110302d216
DTSTART:20101030T000000
CLASS:PUBLIC
SUMMARY:[Katowice] Turniej w Bard
END:VEVENT
BEGIN:VEVENT
DTSTAMP:20260420T063927Z
UID:9a86e00f-8526-47a7-b292-b66838b9314e
DTSTART:20101113T000000
CLASS:PUBLIC
SUMMARY:[Pszczyna] Turniej Red Scorpion
END:VEVENT
BEGIN:VEVENT
DTSTAMP:20260420T063927Z
UID:52adf193-3af2-4963-afe5-17cf4b98fdbd
DTSTART:20110402T000000
CLASS:PUBLIC
SUMMARY:Assault on Wrocław
END:VEVENT
BEGIN:VEVENT
DTSTAMP:20260420T063927Z
UID:5ec6d9ed-7ff8-4408-aab4-a7a1dd9c8f24
DTSTART:20110219T000000
CLASS:PUBLIC
SUMMARY:PSZCZYNA RED SCORPION
END:VEVENT
BEGIN:VEVENT
DTSTAMP:20260420T063927Z
UID:48af2213-62ab-4355-975c-feabae7c728a
DTSTART:20110514T000000
CLASS:PUBLIC
SUMMARY:Regional Championship 2011
END:VEVENT
END:VCALENDAR
