BEGIN:VCALENDAR
VERSION:2.0
PRODID:Magic the Gathering Professional Events
CALSCALE:GREGORIAN
METHOD:PUBLISH
BEGIN:VEVENT
DTSTAMP:20260426T013941Z
UID:33610fe7-bde6-4070-bdc2-c1cc18b380db
DTSTART:20111219T000000
CLASS:PUBLIC
SUMMARY:WHI - Pain In Your Ass Evening
END:VEVENT
BEGIN:VEVENT
DTSTAMP:20260426T013941Z
UID:6a38a3fa-3ab2-4ea3-8a2a-9409d5c3cd13
DTSTART:20121129T000000
CLASS:PUBLIC
SUMMARY:Turnier
END:VEVENT
BEGIN:VEVENT
DTSTAMP:20260426T013941Z
UID:bdbdbd7d-4c05-448a-8124-1fc78a994109
DTSTART:20130118T000000
CLASS:PUBLIC
SUMMARY:Turnier
END:VEVENT
BEGIN:VEVENT
DTSTAMP:20260426T013941Z
UID:bcd0c8fa-3428-4625-a156-1d832d344626
DTSTART:20130131T000000
CLASS:PUBLIC
SUMMARY:Training
END:VEVENT
BEGIN:VEVENT
DTSTAMP:20260426T013941Z
UID:09c633bb-ff0d-4a50-868d-30705b5558c7
DTSTART:20130308T000000
CLASS:PUBLIC
SUMMARY:3. WH:I Turnier Dresden
END:VEVENT
BEGIN:VEVENT
DTSTAMP:20260426T013941Z
UID:de282439-4629-4325-8e4f-2f4335226954
DTSTART:20130425T000000
CLASS:PUBLIC
SUMMARY:WAAAARHAMMER
END:VEVENT
BEGIN:VEVENT
DTSTAMP:20260426T013941Z
UID:9f957ca2-d8fd-4324-8a60-8fe283c12257
DTSTART:20130508T000000
CLASS:PUBLIC
SUMMARY:WAAAARHAMMER
END:VEVENT
BEGIN:VEVENT
DTSTAMP:20260426T013941Z
UID:eb107732-5f8c-4683-a27b-c23d042bd0df
DTSTART:20130608T000000
CLASS:PUBLIC
SUMMARY:Regionalturnier Ost
END:VEVENT
BEGIN:VEVENT
DTSTAMP:20260426T013941Z
UID:0d58e815-9ba4-4900-b721-ec8daacd8f9c
DTSTART:20130711T000000
CLASS:PUBLIC
SUMMARY:WAAAARHAMMER
END:VEVENT
BEGIN:VEVENT
DTSTAMP:20260426T013941Z
UID:523eb4e8-495a-48de-af3f-dda83f3bd86a
DTSTART:20130717T000000
CLASS:PUBLIC
SUMMARY:WHI-Diskussion
END:VEVENT
BEGIN:VEVENT
DTSTAMP:20260426T013941Z
UID:7a071fa0-d5e5-49bf-ad31-954a843c4c1d
DTSTART:20130822T000000
CLASS:PUBLIC
SUMMARY:WAAAARHAMMER
END:VEVENT
BEGIN:VEVENT
DTSTAMP:20260426T013941Z
UID:02f4fe36-b9e3-46de-b663-78cd87d667c0
DTSTART:20130905T000000
CLASS:PUBLIC
SUMMARY:Warhammer DM Training
END:VEVENT
BEGIN:VEVENT
DTSTAMP:20260426T013941Z
UID:d14e16fb-c70c-4a07-933a-05788bf2b829
DTSTART:20131101T000000
CLASS:PUBLIC
SUMMARY:WH:I Gr4ffi-Gedächtnisturnier
END:VEVENT
BEGIN:VEVENT
DTSTAMP:20260426T013941Z
UID:63391219-5780-4ab0-87c0-b6d5af5783f1
DTSTART:20131114T000000
CLASS:PUBLIC
SUMMARY:Freie Spielrunde
END:VEVENT
BEGIN:VEVENT
DTSTAMP:20260426T013941Z
UID:57d3714f-0a51-4140-a82d-7730868b1f12
DTSTART:20131128T000000
CLASS:PUBLIC
SUMMARY:NerdTalk
END:VEVENT
BEGIN:VEVENT
DTSTAMP:20260426T013941Z
UID:6a17e504-1013-4e6e-8542-5ccf27531c33
DTSTART:20131219T000000
CLASS:PUBLIC
SUMMARY:Freie Spielrunde
END:VEVENT
END:VCALENDAR
