BEGIN:VCALENDAR
VERSION:2.0
PRODID:Magic the Gathering Professional Events
CALSCALE:GREGORIAN
METHOD:PUBLISH
BEGIN:VEVENT
DTSTAMP:20260422T162315Z
UID:0fc92ff7-0cdc-4ad8-8d23-779d7a02eff5
DTSTART:20110318T000000
CLASS:PUBLIC
SUMMARY:FNM draft
END:VEVENT
BEGIN:VEVENT
DTSTAMP:20260422T162315Z
UID:75ddfd60-5cf7-4641-a55f-72a029ad33b0
DTSTART:20110319T000000
CLASS:PUBLIC
SUMMARY:Бесплатный Констрактед
END:VEVENT
BEGIN:VEVENT
DTSTAMP:20260422T162315Z
UID:515b033f-12bd-486e-aefd-7b3d60c16695
DTSTART:20110320T000000
CLASS:PUBLIC
SUMMARY:Новичковый драфт
END:VEVENT
BEGIN:VEVENT
DTSTAMP:20260422T162315Z
UID:0dd96dcc-a6aa-45db-af52-dce48510d969
DTSTART:20110325T000000
CLASS:PUBLIC
SUMMARY:FNM draft
END:VEVENT
BEGIN:VEVENT
DTSTAMP:20260422T162315Z
UID:a70c1e42-ce8e-409b-8b02-9abe3ab084cb
DTSTART:20110326T000000
CLASS:PUBLIC
SUMMARY:Бесплатный Констрактед
END:VEVENT
BEGIN:VEVENT
DTSTAMP:20260422T162315Z
UID:c76045c7-5cc3-4732-bd11-29e414959c39
DTSTART:20110327T000000
CLASS:PUBLIC
SUMMARY:Бесплатный Констрактед
END:VEVENT
END:VCALENDAR
